BEGIN:VCALENDAR
VERSION:2.0
PRODID:-//Struts Famous Wings - ECPv6.5.1.6//NONSGML v1.0//EN
CALSCALE:GREGORIAN
METHOD:PUBLISH
X-ORIGINAL-URL:https://strutswings.com
X-WR-CALDESC:Events for Struts Famous Wings
REFRESH-INTERVAL;VALUE=DURATION:PT1H
X-Robots-Tag:noindex
X-PUBLISHED-TTL:PT1H
BEGIN:VTIMEZONE
TZID:America/Chicago
BEGIN:DAYLIGHT
TZOFFSETFROM:-0600
TZOFFSETTO:-0500
TZNAME:CDT
DTSTART:20240310T080000
END:DAYLIGHT
BEGIN:STANDARD
TZOFFSETFROM:-0500
TZOFFSETTO:-0600
TZNAME:CST
DTSTART:20241103T070000
END:STANDARD
END:VTIMEZONE
BEGIN:VEVENT
DTSTART;TZID=America/Chicago:20241023T170000
DTEND;TZID=America/Chicago:20241023T210000
DTSTAMP:20260419T090040
CREATED:20240717T205142Z
LAST-MODIFIED:20240717T205207Z
UID:10002898-1729702800-1729717200@strutswings.com
SUMMARY:WINE WEDNESDAY @ Struts of Oxford
DESCRIPTION:WINE WEDNESDAY\nAll glasses of wine and champagne are $4 from 5pm-9pm every wednesday!\n#Struts\n#StrutsWings\n#winewednesday\n#winewednesdays
URL:https://strutswings.com/event/wine-wednesday-struts-of-oxford/2024-10-23/
LOCATION:AL
END:VEVENT
BEGIN:VEVENT
DTSTART;TZID=America/Chicago:20241023T183000
DTEND;TZID=America/Chicago:20241023T213000
DTSTAMP:20260419T090040
CREATED:20240718T033057Z
LAST-MODIFIED:20240718T033057Z
UID:10003151-1729708200-1729719000@strutswings.com
SUMMARY:GAMEDAY Jax State VS Middle Tennessee State
DESCRIPTION:GAMEDAY Jax State VS Middle Tennessee State \n  \n        \n 
URL:https://strutswings.com/event/gameday-jax-state-vs-middle-tennessee-state/
LOCATION:AmFirst Stadium\, 700 Pelham Road North\, Jacksonville\, AL\, 36265\, United States
END:VEVENT
BEGIN:VEVENT
DTSTART;TZID=America/Chicago:20241023T190000
DTEND;TZID=America/Chicago:20241023T200000
DTSTAMP:20260419T090040
CREATED:20240717T204216Z
LAST-MODIFIED:20240717T204231Z
UID:10002114-1729710000-1729713600@strutswings.com
SUMMARY:FREE BINGO @ Struts of Oxford
DESCRIPTION:BINGO\nCash/gift card/food prizes!\nThe fun begins at 7:00 PM and it’s #FREE to play!\n#Weekly #Bingo #JacksonvilleAl #JacksonvilleAlabama #BetterNightOut #BingoNearMe #BingoInAL #struts #strutswings\n#FREEBINGO\n\n–
URL:https://strutswings.com/event/free-bingo-struts-of-oxford/2024-10-23/
LOCATION:Struts of Oxford\, 88 Ali Way\, Oxford\, AL\, 36203\, United States
END:VEVENT
BEGIN:VEVENT
DTSTART;TZID=America/Chicago:20241023T190000
DTEND;TZID=America/Chicago:20241023T203000
DTSTAMP:20260419T090040
CREATED:20240709T022430Z
LAST-MODIFIED:20240717T201613Z
UID:10000279-1729710000-1729715400@strutswings.com
SUMMARY:LIVE TRIVIA @ Struts of Jacksonville
DESCRIPTION:LIVE TRIVIA \nCash/gift card/food prizes!\nThe fun begins at 7:00 PM and it’s #FREE to play!\n#Weekly #Trivia #jacksonvilleal #jacksonvillealabama #BetterNightOut #TriviaNearMe #TriviaInAL #struts #strutswings #NorthAlabamaTrivia
URL:https://strutswings.com/event/live-trivia/2024-10-23/
LOCATION:Struts of Oxford\, 88 Ali Way\, Oxford\, AL\, 36203\, United States
END:VEVENT
END:VCALENDAR