BEGIN:VCALENDAR
VERSION:2.0
PRODID:-//Struts Famous Wings - ECPv6.5.1.6//NONSGML v1.0//EN
CALSCALE:GREGORIAN
METHOD:PUBLISH
X-WR-CALNAME:Struts Famous Wings
X-ORIGINAL-URL:https://strutswings.com
X-WR-CALDESC:Events for Struts Famous Wings
REFRESH-INTERVAL;VALUE=DURATION:PT1H
X-Robots-Tag:noindex
X-PUBLISHED-TTL:PT1H
BEGIN:VTIMEZONE
TZID:America/Chicago
BEGIN:DAYLIGHT
TZOFFSETFROM:-0600
TZOFFSETTO:-0500
TZNAME:CDT
DTSTART:20260308T080000
END:DAYLIGHT
BEGIN:STANDARD
TZOFFSETFROM:-0500
TZOFFSETTO:-0600
TZNAME:CST
DTSTART:20261101T070000
END:STANDARD
END:VTIMEZONE
BEGIN:VEVENT
DTSTART;TZID=America/Chicago:20260406T190000
DTEND;TZID=America/Chicago:20260406T200000
DTSTAMP:20260419T134311
CREATED:20240708T200704Z
LAST-MODIFIED:20240717T204416Z
UID:10000878-1775502000-1775505600@strutswings.com
SUMMARY:FREE BINGO @ Struts of Jacksonville
DESCRIPTION:BINGO\nCash/gift card/food prizes!\nThe fun begins at 7:00 PM and it’s #FREE to play!\n#Weekly #Bingo #jacksonvilleal #jacksonvillealabama #BetterNightOut #BingoNearMe #BingoInAL #struts #strutswings\n#FREEBINGO\n\n–
URL:https://strutswings.com/event/free-bingo/2026-04-06/
LOCATION:Struts of Oxford\, 88 Ali Way\, Oxford\, AL\, 36203\, United States
END:VEVENT
BEGIN:VEVENT
DTSTART;TZID=America/Chicago:20260406T190000
DTEND;TZID=America/Chicago:20260406T203000
DTSTAMP:20260419T134311
CREATED:20240717T203520Z
LAST-MODIFIED:20240717T203556Z
UID:10001139-1775502000-1775507400@strutswings.com
SUMMARY:LIVE TRIVIA @ Struts of Oxford
DESCRIPTION:LIVE TRIVIA \nCash/gift card/food prizes!\nThe fun begins at 7:00 PM and it’s #FREE to play!\n#Weekly #Trivia #OxfordAL #OxfordAlabama #BetterNightOut #TriviaNearMe #TriviaInAL #struts #strutswings #NorthAlabamaTrivia
URL:https://strutswings.com/event/live-trivia-struts-of-oxford-2/2026-04-06/
LOCATION:Struts of Oxford\, 88 Ali Way\, Oxford\, AL\, 36203\, United States
END:VEVENT
BEGIN:VEVENT
DTSTART;TZID=America/Chicago:20260407T183000
DTEND;TZID=America/Chicago:20260407T200000
DTSTAMP:20260419T134311
CREATED:20240717T203850Z
LAST-MODIFIED:20240717T203935Z
UID:10001664-1775586600-1775592000@strutswings.com
SUMMARY:SINGO @ Struts of Oxford
DESCRIPTION:SINGO\nITS bingo w/ music! No singing required!\nAll ages welcome!\nAwesome\, fun\, & interactive new game! Come test your music knowledge!\nThe fun begins at 7:00 PM and it’s #FREE to play!\nGift card prizes!\n\n\n#singo #struts #strutswings\n#Weekly #OxfordAL #Oxfordalabama #BetterNightOut #SingoNearMe #SingoInAL
URL:https://strutswings.com/event/singo-struts-of-oxford/2026-04-07/
LOCATION:Struts of Oxford\, 88 Ali Way\, Oxford\, AL\, 36203\, United States
END:VEVENT
BEGIN:VEVENT
DTSTART;TZID=America/Chicago:20260408T170000
DTEND;TZID=America/Chicago:20260408T210000
DTSTAMP:20260419T134311
CREATED:20240717T205142Z
LAST-MODIFIED:20240717T205207Z
UID:10002974-1775667600-1775682000@strutswings.com
SUMMARY:WINE WEDNESDAY @ Struts of Oxford
DESCRIPTION:WINE WEDNESDAY\nAll glasses of wine and champagne are $4 from 5pm-9pm every wednesday!\n#Struts\n#StrutsWings\n#winewednesday\n#winewednesdays
URL:https://strutswings.com/event/wine-wednesday-struts-of-oxford/2026-04-08/
END:VEVENT
BEGIN:VEVENT
DTSTART;TZID=America/Chicago:20260408T190000
DTEND;TZID=America/Chicago:20260408T200000
DTSTAMP:20260419T134311
CREATED:20240717T204216Z
LAST-MODIFIED:20240717T204231Z
UID:10002190-1775674800-1775678400@strutswings.com
SUMMARY:FREE BINGO @ Struts of Oxford
DESCRIPTION:BINGO\nCash/gift card/food prizes!\nThe fun begins at 7:00 PM and it’s #FREE to play!\n#Weekly #Bingo #JacksonvilleAl #JacksonvilleAlabama #BetterNightOut #BingoNearMe #BingoInAL #struts #strutswings\n#FREEBINGO\n\n–
URL:https://strutswings.com/event/free-bingo-struts-of-oxford/2026-04-08/
LOCATION:Struts of Oxford\, 88 Ali Way\, Oxford\, AL\, 36203\, United States
END:VEVENT
BEGIN:VEVENT
DTSTART;TZID=America/Chicago:20260408T190000
DTEND;TZID=America/Chicago:20260408T203000
DTSTAMP:20260419T134311
CREATED:20240709T022430Z
LAST-MODIFIED:20240717T201613Z
UID:10000355-1775674800-1775680200@strutswings.com
SUMMARY:LIVE TRIVIA @ Struts of Jacksonville
DESCRIPTION:LIVE TRIVIA \nCash/gift card/food prizes!\nThe fun begins at 7:00 PM and it’s #FREE to play!\n#Weekly #Trivia #jacksonvilleal #jacksonvillealabama #BetterNightOut #TriviaNearMe #TriviaInAL #struts #strutswings #NorthAlabamaTrivia
URL:https://strutswings.com/event/live-trivia/2026-04-08/
LOCATION:Struts of Oxford\, 88 Ali Way\, Oxford\, AL\, 36203\, United States
END:VEVENT
BEGIN:VEVENT
DTSTART;TZID=America/Chicago:20260409T170000
DTEND;TZID=America/Chicago:20260409T210000
DTSTAMP:20260419T134311
CREATED:20240717T204956Z
LAST-MODIFIED:20240717T204956Z
UID:10002712-1775754000-1775768400@strutswings.com
SUMMARY:FROZEN DRINK THURSDAY @ Struts of Jacksonville
DESCRIPTION:FROZEN DRINK THURSDAY \nAll frozen drinks are $6 from 5pm-9pm!
URL:https://strutswings.com/event/frozen-drink-thursday-struts-of-jacksonville/2026-04-09/
END:VEVENT
BEGIN:VEVENT
DTSTART;TZID=America/Chicago:20260409T190000
DTEND;TZID=America/Chicago:20260409T200000
DTSTAMP:20260419T134311
CREATED:20240709T022812Z
LAST-MODIFIED:20240829T193033Z
UID:10000094-1775761200-1775764800@strutswings.com
SUMMARY:SINGO @ Struts of Jacksonville
DESCRIPTION:SINGO\nITS bingo w/ music! No singing required!\nAll ages welcome!\nAwesome\, fun\, & interactive new game! Come test your music knowledge!\nThe fun begins at 7:00 PM and it’s #FREE to play!\nGift card prizes!\n\n\n#singo #struts #strutswings\n#Weekly #jacksonvilleal #jacksonvillealabama #BetterNightOut #SingoNearMe #SingoInAL
URL:https://strutswings.com/event/singo/2026-04-09/
LOCATION:Struts of Oxford\, 88 Ali Way\, Oxford\, AL\, 36203\, United States
END:VEVENT
BEGIN:VEVENT
DTSTART;TZID=America/Chicago:20260413T170000
DTEND;TZID=America/Chicago:20260413T210000
DTSTAMP:20260419T134311
CREATED:20240717T204714Z
LAST-MODIFIED:20240717T204714Z
UID:10002451-1776099600-1776114000@strutswings.com
SUMMARY:MARGARITA MONDAY @ Struts of Jacksonville
DESCRIPTION:MARGARITA MONDAY \nFrom 5pm-9pm $5 (12oz) Jose Cuervo Margaritas \n \n 
URL:https://strutswings.com/event/margarita-monday-struts-of-jacksonville/2026-04-13/
END:VEVENT
BEGIN:VEVENT
DTSTART;TZID=America/Chicago:20260413T190000
DTEND;TZID=America/Chicago:20260413T200000
DTSTAMP:20260419T134311
CREATED:20240708T200704Z
LAST-MODIFIED:20240717T204416Z
UID:10000879-1776106800-1776110400@strutswings.com
SUMMARY:FREE BINGO @ Struts of Jacksonville
DESCRIPTION:BINGO\nCash/gift card/food prizes!\nThe fun begins at 7:00 PM and it’s #FREE to play!\n#Weekly #Bingo #jacksonvilleal #jacksonvillealabama #BetterNightOut #BingoNearMe #BingoInAL #struts #strutswings\n#FREEBINGO\n\n–
URL:https://strutswings.com/event/free-bingo/2026-04-13/
LOCATION:Struts of Oxford\, 88 Ali Way\, Oxford\, AL\, 36203\, United States
END:VEVENT
BEGIN:VEVENT
DTSTART;TZID=America/Chicago:20260413T190000
DTEND;TZID=America/Chicago:20260413T203000
DTSTAMP:20260419T134311
CREATED:20240717T203520Z
LAST-MODIFIED:20240717T203556Z
UID:10001140-1776106800-1776112200@strutswings.com
SUMMARY:LIVE TRIVIA @ Struts of Oxford
DESCRIPTION:LIVE TRIVIA \nCash/gift card/food prizes!\nThe fun begins at 7:00 PM and it’s #FREE to play!\n#Weekly #Trivia #OxfordAL #OxfordAlabama #BetterNightOut #TriviaNearMe #TriviaInAL #struts #strutswings #NorthAlabamaTrivia
URL:https://strutswings.com/event/live-trivia-struts-of-oxford-2/2026-04-13/
LOCATION:Struts of Oxford\, 88 Ali Way\, Oxford\, AL\, 36203\, United States
END:VEVENT
BEGIN:VEVENT
DTSTART;TZID=America/Chicago:20260414T183000
DTEND;TZID=America/Chicago:20260414T200000
DTSTAMP:20260419T134311
CREATED:20240717T203850Z
LAST-MODIFIED:20240717T203935Z
UID:10001665-1776191400-1776196800@strutswings.com
SUMMARY:SINGO @ Struts of Oxford
DESCRIPTION:SINGO\nITS bingo w/ music! No singing required!\nAll ages welcome!\nAwesome\, fun\, & interactive new game! Come test your music knowledge!\nThe fun begins at 7:00 PM and it’s #FREE to play!\nGift card prizes!\n\n\n#singo #struts #strutswings\n#Weekly #OxfordAL #Oxfordalabama #BetterNightOut #SingoNearMe #SingoInAL
URL:https://strutswings.com/event/singo-struts-of-oxford/2026-04-14/
LOCATION:Struts of Oxford\, 88 Ali Way\, Oxford\, AL\, 36203\, United States
END:VEVENT
BEGIN:VEVENT
DTSTART;TZID=America/Chicago:20260415T170000
DTEND;TZID=America/Chicago:20260415T210000
DTSTAMP:20260419T134311
CREATED:20240717T205142Z
LAST-MODIFIED:20240717T205207Z
UID:10002975-1776272400-1776286800@strutswings.com
SUMMARY:WINE WEDNESDAY @ Struts of Oxford
DESCRIPTION:WINE WEDNESDAY\nAll glasses of wine and champagne are $4 from 5pm-9pm every wednesday!\n#Struts\n#StrutsWings\n#winewednesday\n#winewednesdays
URL:https://strutswings.com/event/wine-wednesday-struts-of-oxford/2026-04-15/
END:VEVENT
BEGIN:VEVENT
DTSTART;TZID=America/Chicago:20260415T190000
DTEND;TZID=America/Chicago:20260415T200000
DTSTAMP:20260419T134311
CREATED:20240717T204216Z
LAST-MODIFIED:20240717T204231Z
UID:10002191-1776279600-1776283200@strutswings.com
SUMMARY:FREE BINGO @ Struts of Oxford
DESCRIPTION:BINGO\nCash/gift card/food prizes!\nThe fun begins at 7:00 PM and it’s #FREE to play!\n#Weekly #Bingo #JacksonvilleAl #JacksonvilleAlabama #BetterNightOut #BingoNearMe #BingoInAL #struts #strutswings\n#FREEBINGO\n\n–
URL:https://strutswings.com/event/free-bingo-struts-of-oxford/2026-04-15/
LOCATION:Struts of Oxford\, 88 Ali Way\, Oxford\, AL\, 36203\, United States
END:VEVENT
BEGIN:VEVENT
DTSTART;TZID=America/Chicago:20260415T190000
DTEND;TZID=America/Chicago:20260415T203000
DTSTAMP:20260419T134311
CREATED:20240709T022430Z
LAST-MODIFIED:20240717T201613Z
UID:10000356-1776279600-1776285000@strutswings.com
SUMMARY:LIVE TRIVIA @ Struts of Jacksonville
DESCRIPTION:LIVE TRIVIA \nCash/gift card/food prizes!\nThe fun begins at 7:00 PM and it’s #FREE to play!\n#Weekly #Trivia #jacksonvilleal #jacksonvillealabama #BetterNightOut #TriviaNearMe #TriviaInAL #struts #strutswings #NorthAlabamaTrivia
URL:https://strutswings.com/event/live-trivia/2026-04-15/
LOCATION:Struts of Oxford\, 88 Ali Way\, Oxford\, AL\, 36203\, United States
END:VEVENT
BEGIN:VEVENT
DTSTART;TZID=America/Chicago:20260416T170000
DTEND;TZID=America/Chicago:20260416T210000
DTSTAMP:20260419T134311
CREATED:20240717T204956Z
LAST-MODIFIED:20240717T204956Z
UID:10002713-1776358800-1776373200@strutswings.com
SUMMARY:FROZEN DRINK THURSDAY @ Struts of Jacksonville
DESCRIPTION:FROZEN DRINK THURSDAY \nAll frozen drinks are $6 from 5pm-9pm!
URL:https://strutswings.com/event/frozen-drink-thursday-struts-of-jacksonville/2026-04-16/
END:VEVENT
BEGIN:VEVENT
DTSTART;TZID=America/Chicago:20260416T190000
DTEND;TZID=America/Chicago:20260416T200000
DTSTAMP:20260419T134311
CREATED:20240709T022812Z
LAST-MODIFIED:20240829T193033Z
UID:10000095-1776366000-1776369600@strutswings.com
SUMMARY:SINGO @ Struts of Jacksonville
DESCRIPTION:SINGO\nITS bingo w/ music! No singing required!\nAll ages welcome!\nAwesome\, fun\, & interactive new game! Come test your music knowledge!\nThe fun begins at 7:00 PM and it’s #FREE to play!\nGift card prizes!\n\n\n#singo #struts #strutswings\n#Weekly #jacksonvilleal #jacksonvillealabama #BetterNightOut #SingoNearMe #SingoInAL
URL:https://strutswings.com/event/singo/2026-04-16/
LOCATION:Struts of Oxford\, 88 Ali Way\, Oxford\, AL\, 36203\, United States
END:VEVENT
BEGIN:VEVENT
DTSTART;TZID=America/Chicago:20260420T170000
DTEND;TZID=America/Chicago:20260420T210000
DTSTAMP:20260419T134311
CREATED:20240717T204714Z
LAST-MODIFIED:20240717T204714Z
UID:10002452-1776704400-1776718800@strutswings.com
SUMMARY:MARGARITA MONDAY @ Struts of Jacksonville
DESCRIPTION:MARGARITA MONDAY \nFrom 5pm-9pm $5 (12oz) Jose Cuervo Margaritas \n \n 
URL:https://strutswings.com/event/margarita-monday-struts-of-jacksonville/2026-04-20/
END:VEVENT
BEGIN:VEVENT
DTSTART;TZID=America/Chicago:20260420T190000
DTEND;TZID=America/Chicago:20260420T200000
DTSTAMP:20260419T134311
CREATED:20240708T200704Z
LAST-MODIFIED:20240717T204416Z
UID:10000880-1776711600-1776715200@strutswings.com
SUMMARY:FREE BINGO @ Struts of Jacksonville
DESCRIPTION:BINGO\nCash/gift card/food prizes!\nThe fun begins at 7:00 PM and it’s #FREE to play!\n#Weekly #Bingo #jacksonvilleal #jacksonvillealabama #BetterNightOut #BingoNearMe #BingoInAL #struts #strutswings\n#FREEBINGO\n\n–
URL:https://strutswings.com/event/free-bingo/2026-04-20/
LOCATION:Struts of Oxford\, 88 Ali Way\, Oxford\, AL\, 36203\, United States
END:VEVENT
BEGIN:VEVENT
DTSTART;TZID=America/Chicago:20260420T190000
DTEND;TZID=America/Chicago:20260420T203000
DTSTAMP:20260419T134311
CREATED:20240717T203520Z
LAST-MODIFIED:20240717T203556Z
UID:10001141-1776711600-1776717000@strutswings.com
SUMMARY:LIVE TRIVIA @ Struts of Oxford
DESCRIPTION:LIVE TRIVIA \nCash/gift card/food prizes!\nThe fun begins at 7:00 PM and it’s #FREE to play!\n#Weekly #Trivia #OxfordAL #OxfordAlabama #BetterNightOut #TriviaNearMe #TriviaInAL #struts #strutswings #NorthAlabamaTrivia
URL:https://strutswings.com/event/live-trivia-struts-of-oxford-2/2026-04-20/
LOCATION:Struts of Oxford\, 88 Ali Way\, Oxford\, AL\, 36203\, United States
END:VEVENT
BEGIN:VEVENT
DTSTART;TZID=America/Chicago:20260421T183000
DTEND;TZID=America/Chicago:20260421T200000
DTSTAMP:20260419T134311
CREATED:20240717T203850Z
LAST-MODIFIED:20240717T203935Z
UID:10001666-1776796200-1776801600@strutswings.com
SUMMARY:SINGO @ Struts of Oxford
DESCRIPTION:SINGO\nITS bingo w/ music! No singing required!\nAll ages welcome!\nAwesome\, fun\, & interactive new game! Come test your music knowledge!\nThe fun begins at 7:00 PM and it’s #FREE to play!\nGift card prizes!\n\n\n#singo #struts #strutswings\n#Weekly #OxfordAL #Oxfordalabama #BetterNightOut #SingoNearMe #SingoInAL
URL:https://strutswings.com/event/singo-struts-of-oxford/2026-04-21/
LOCATION:Struts of Oxford\, 88 Ali Way\, Oxford\, AL\, 36203\, United States
END:VEVENT
BEGIN:VEVENT
DTSTART;TZID=America/Chicago:20260422T170000
DTEND;TZID=America/Chicago:20260422T210000
DTSTAMP:20260419T134311
CREATED:20240717T205142Z
LAST-MODIFIED:20240717T205207Z
UID:10002976-1776877200-1776891600@strutswings.com
SUMMARY:WINE WEDNESDAY @ Struts of Oxford
DESCRIPTION:WINE WEDNESDAY\nAll glasses of wine and champagne are $4 from 5pm-9pm every wednesday!\n#Struts\n#StrutsWings\n#winewednesday\n#winewednesdays
URL:https://strutswings.com/event/wine-wednesday-struts-of-oxford/2026-04-22/
END:VEVENT
BEGIN:VEVENT
DTSTART;TZID=America/Chicago:20260422T190000
DTEND;TZID=America/Chicago:20260422T200000
DTSTAMP:20260419T134311
CREATED:20240717T204216Z
LAST-MODIFIED:20240717T204231Z
UID:10002192-1776884400-1776888000@strutswings.com
SUMMARY:FREE BINGO @ Struts of Oxford
DESCRIPTION:BINGO\nCash/gift card/food prizes!\nThe fun begins at 7:00 PM and it’s #FREE to play!\n#Weekly #Bingo #JacksonvilleAl #JacksonvilleAlabama #BetterNightOut #BingoNearMe #BingoInAL #struts #strutswings\n#FREEBINGO\n\n–
URL:https://strutswings.com/event/free-bingo-struts-of-oxford/2026-04-22/
LOCATION:Struts of Oxford\, 88 Ali Way\, Oxford\, AL\, 36203\, United States
END:VEVENT
BEGIN:VEVENT
DTSTART;TZID=America/Chicago:20260422T190000
DTEND;TZID=America/Chicago:20260422T203000
DTSTAMP:20260419T134311
CREATED:20240709T022430Z
LAST-MODIFIED:20240717T201613Z
UID:10000357-1776884400-1776889800@strutswings.com
SUMMARY:LIVE TRIVIA @ Struts of Jacksonville
DESCRIPTION:LIVE TRIVIA \nCash/gift card/food prizes!\nThe fun begins at 7:00 PM and it’s #FREE to play!\n#Weekly #Trivia #jacksonvilleal #jacksonvillealabama #BetterNightOut #TriviaNearMe #TriviaInAL #struts #strutswings #NorthAlabamaTrivia
URL:https://strutswings.com/event/live-trivia/2026-04-22/
LOCATION:Struts of Oxford\, 88 Ali Way\, Oxford\, AL\, 36203\, United States
END:VEVENT
BEGIN:VEVENT
DTSTART;TZID=America/Chicago:20260423T170000
DTEND;TZID=America/Chicago:20260423T210000
DTSTAMP:20260419T134311
CREATED:20240717T204956Z
LAST-MODIFIED:20240717T204956Z
UID:10002714-1776963600-1776978000@strutswings.com
SUMMARY:FROZEN DRINK THURSDAY @ Struts of Jacksonville
DESCRIPTION:FROZEN DRINK THURSDAY \nAll frozen drinks are $6 from 5pm-9pm!
URL:https://strutswings.com/event/frozen-drink-thursday-struts-of-jacksonville/2026-04-23/
END:VEVENT
BEGIN:VEVENT
DTSTART;TZID=America/Chicago:20260423T190000
DTEND;TZID=America/Chicago:20260423T200000
DTSTAMP:20260419T134311
CREATED:20240709T022812Z
LAST-MODIFIED:20240829T193033Z
UID:10000096-1776970800-1776974400@strutswings.com
SUMMARY:SINGO @ Struts of Jacksonville
DESCRIPTION:SINGO\nITS bingo w/ music! No singing required!\nAll ages welcome!\nAwesome\, fun\, & interactive new game! Come test your music knowledge!\nThe fun begins at 7:00 PM and it’s #FREE to play!\nGift card prizes!\n\n\n#singo #struts #strutswings\n#Weekly #jacksonvilleal #jacksonvillealabama #BetterNightOut #SingoNearMe #SingoInAL
URL:https://strutswings.com/event/singo/2026-04-23/
LOCATION:Struts of Oxford\, 88 Ali Way\, Oxford\, AL\, 36203\, United States
END:VEVENT
BEGIN:VEVENT
DTSTART;TZID=America/Chicago:20260427T170000
DTEND;TZID=America/Chicago:20260427T210000
DTSTAMP:20260419T134311
CREATED:20240717T204714Z
LAST-MODIFIED:20240717T204714Z
UID:10002453-1777309200-1777323600@strutswings.com
SUMMARY:MARGARITA MONDAY @ Struts of Jacksonville
DESCRIPTION:MARGARITA MONDAY \nFrom 5pm-9pm $5 (12oz) Jose Cuervo Margaritas \n \n 
URL:https://strutswings.com/event/margarita-monday-struts-of-jacksonville/2026-04-27/
END:VEVENT
BEGIN:VEVENT
DTSTART;TZID=America/Chicago:20260427T190000
DTEND;TZID=America/Chicago:20260427T200000
DTSTAMP:20260419T134311
CREATED:20240708T200704Z
LAST-MODIFIED:20240717T204416Z
UID:10000881-1777316400-1777320000@strutswings.com
SUMMARY:FREE BINGO @ Struts of Jacksonville
DESCRIPTION:BINGO\nCash/gift card/food prizes!\nThe fun begins at 7:00 PM and it’s #FREE to play!\n#Weekly #Bingo #jacksonvilleal #jacksonvillealabama #BetterNightOut #BingoNearMe #BingoInAL #struts #strutswings\n#FREEBINGO\n\n–
URL:https://strutswings.com/event/free-bingo/2026-04-27/
LOCATION:Struts of Oxford\, 88 Ali Way\, Oxford\, AL\, 36203\, United States
END:VEVENT
BEGIN:VEVENT
DTSTART;TZID=America/Chicago:20260427T190000
DTEND;TZID=America/Chicago:20260427T203000
DTSTAMP:20260419T134311
CREATED:20240717T203520Z
LAST-MODIFIED:20240717T203556Z
UID:10001142-1777316400-1777321800@strutswings.com
SUMMARY:LIVE TRIVIA @ Struts of Oxford
DESCRIPTION:LIVE TRIVIA \nCash/gift card/food prizes!\nThe fun begins at 7:00 PM and it’s #FREE to play!\n#Weekly #Trivia #OxfordAL #OxfordAlabama #BetterNightOut #TriviaNearMe #TriviaInAL #struts #strutswings #NorthAlabamaTrivia
URL:https://strutswings.com/event/live-trivia-struts-of-oxford-2/2026-04-27/
LOCATION:Struts of Oxford\, 88 Ali Way\, Oxford\, AL\, 36203\, United States
END:VEVENT
BEGIN:VEVENT
DTSTART;TZID=America/Chicago:20260428T183000
DTEND;TZID=America/Chicago:20260428T200000
DTSTAMP:20260419T134311
CREATED:20240717T203850Z
LAST-MODIFIED:20240717T203935Z
UID:10001667-1777401000-1777406400@strutswings.com
SUMMARY:SINGO @ Struts of Oxford
DESCRIPTION:SINGO\nITS bingo w/ music! No singing required!\nAll ages welcome!\nAwesome\, fun\, & interactive new game! Come test your music knowledge!\nThe fun begins at 7:00 PM and it’s #FREE to play!\nGift card prizes!\n\n\n#singo #struts #strutswings\n#Weekly #OxfordAL #Oxfordalabama #BetterNightOut #SingoNearMe #SingoInAL
URL:https://strutswings.com/event/singo-struts-of-oxford/2026-04-28/
LOCATION:Struts of Oxford\, 88 Ali Way\, Oxford\, AL\, 36203\, United States
END:VEVENT
END:VCALENDAR