BEGIN:VCALENDAR
VERSION:2.0
PRODID:-//Struts Famous Wings - ECPv6.5.1.6//NONSGML v1.0//EN
CALSCALE:GREGORIAN
METHOD:PUBLISH
X-WR-CALNAME:Struts Famous Wings
X-ORIGINAL-URL:https://strutswings.com
X-WR-CALDESC:Events for Struts Famous Wings
REFRESH-INTERVAL;VALUE=DURATION:PT1H
X-Robots-Tag:noindex
X-PUBLISHED-TTL:PT1H
BEGIN:VTIMEZONE
TZID:America/Chicago
BEGIN:DAYLIGHT
TZOFFSETFROM:-0600
TZOFFSETTO:-0500
TZNAME:CDT
DTSTART:20260308T080000
END:DAYLIGHT
BEGIN:STANDARD
TZOFFSETFROM:-0500
TZOFFSETTO:-0600
TZNAME:CST
DTSTART:20261101T070000
END:STANDARD
END:VTIMEZONE
BEGIN:VEVENT
DTSTART;TZID=America/Chicago:20260506T190000
DTEND;TZID=America/Chicago:20260506T200000
DTSTAMP:20260419T200825
CREATED:20240717T204216Z
LAST-MODIFIED:20240717T204231Z
UID:10002194-1778094000-1778097600@strutswings.com
SUMMARY:FREE BINGO @ Struts of Oxford
DESCRIPTION:BINGO\nCash/gift card/food prizes!\nThe fun begins at 7:00 PM and it’s #FREE to play!\n#Weekly #Bingo #JacksonvilleAl #JacksonvilleAlabama #BetterNightOut #BingoNearMe #BingoInAL #struts #strutswings\n#FREEBINGO\n\n–
URL:https://strutswings.com/event/free-bingo-struts-of-oxford/2026-05-06/
LOCATION:Struts of Oxford\, 88 Ali Way\, Oxford\, AL\, 36203\, United States
END:VEVENT
BEGIN:VEVENT
DTSTART;TZID=America/Chicago:20260506T190000
DTEND;TZID=America/Chicago:20260506T203000
DTSTAMP:20260419T200825
CREATED:20240709T022430Z
LAST-MODIFIED:20240717T201613Z
UID:10000359-1778094000-1778099400@strutswings.com
SUMMARY:LIVE TRIVIA @ Struts of Jacksonville
DESCRIPTION:LIVE TRIVIA \nCash/gift card/food prizes!\nThe fun begins at 7:00 PM and it’s #FREE to play!\n#Weekly #Trivia #jacksonvilleal #jacksonvillealabama #BetterNightOut #TriviaNearMe #TriviaInAL #struts #strutswings #NorthAlabamaTrivia
URL:https://strutswings.com/event/live-trivia/2026-05-06/
LOCATION:Struts of Oxford\, 88 Ali Way\, Oxford\, AL\, 36203\, United States
END:VEVENT
BEGIN:VEVENT
DTSTART;TZID=America/Chicago:20260507T170000
DTEND;TZID=America/Chicago:20260507T210000
DTSTAMP:20260419T200825
CREATED:20240717T204956Z
LAST-MODIFIED:20240717T204956Z
UID:10002716-1778173200-1778187600@strutswings.com
SUMMARY:FROZEN DRINK THURSDAY @ Struts of Jacksonville
DESCRIPTION:FROZEN DRINK THURSDAY \nAll frozen drinks are $6 from 5pm-9pm!
URL:https://strutswings.com/event/frozen-drink-thursday-struts-of-jacksonville/2026-05-07/
END:VEVENT
BEGIN:VEVENT
DTSTART;TZID=America/Chicago:20260507T190000
DTEND;TZID=America/Chicago:20260507T200000
DTSTAMP:20260419T200825
CREATED:20240709T022812Z
LAST-MODIFIED:20240829T193033Z
UID:10000098-1778180400-1778184000@strutswings.com
SUMMARY:SINGO @ Struts of Jacksonville
DESCRIPTION:SINGO\nITS bingo w/ music! No singing required!\nAll ages welcome!\nAwesome\, fun\, & interactive new game! Come test your music knowledge!\nThe fun begins at 7:00 PM and it’s #FREE to play!\nGift card prizes!\n\n\n#singo #struts #strutswings\n#Weekly #jacksonvilleal #jacksonvillealabama #BetterNightOut #SingoNearMe #SingoInAL
URL:https://strutswings.com/event/singo/2026-05-07/
LOCATION:Struts of Oxford\, 88 Ali Way\, Oxford\, AL\, 36203\, United States
END:VEVENT
BEGIN:VEVENT
DTSTART;TZID=America/Chicago:20260511T170000
DTEND;TZID=America/Chicago:20260511T210000
DTSTAMP:20260419T200825
CREATED:20240717T204714Z
LAST-MODIFIED:20240717T204714Z
UID:10002455-1778518800-1778533200@strutswings.com
SUMMARY:MARGARITA MONDAY @ Struts of Jacksonville
DESCRIPTION:MARGARITA MONDAY \nFrom 5pm-9pm $5 (12oz) Jose Cuervo Margaritas \n \n 
URL:https://strutswings.com/event/margarita-monday-struts-of-jacksonville/2026-05-11/
END:VEVENT
BEGIN:VEVENT
DTSTART;TZID=America/Chicago:20260511T190000
DTEND;TZID=America/Chicago:20260511T200000
DTSTAMP:20260419T200825
CREATED:20240708T200704Z
LAST-MODIFIED:20240717T204416Z
UID:10000883-1778526000-1778529600@strutswings.com
SUMMARY:FREE BINGO @ Struts of Jacksonville
DESCRIPTION:BINGO\nCash/gift card/food prizes!\nThe fun begins at 7:00 PM and it’s #FREE to play!\n#Weekly #Bingo #jacksonvilleal #jacksonvillealabama #BetterNightOut #BingoNearMe #BingoInAL #struts #strutswings\n#FREEBINGO\n\n–
URL:https://strutswings.com/event/free-bingo/2026-05-11/
LOCATION:Struts of Oxford\, 88 Ali Way\, Oxford\, AL\, 36203\, United States
END:VEVENT
BEGIN:VEVENT
DTSTART;TZID=America/Chicago:20260511T190000
DTEND;TZID=America/Chicago:20260511T203000
DTSTAMP:20260419T200825
CREATED:20240717T203520Z
LAST-MODIFIED:20240717T203556Z
UID:10001144-1778526000-1778531400@strutswings.com
SUMMARY:LIVE TRIVIA @ Struts of Oxford
DESCRIPTION:LIVE TRIVIA \nCash/gift card/food prizes!\nThe fun begins at 7:00 PM and it’s #FREE to play!\n#Weekly #Trivia #OxfordAL #OxfordAlabama #BetterNightOut #TriviaNearMe #TriviaInAL #struts #strutswings #NorthAlabamaTrivia
URL:https://strutswings.com/event/live-trivia-struts-of-oxford-2/2026-05-11/
LOCATION:Struts of Oxford\, 88 Ali Way\, Oxford\, AL\, 36203\, United States
END:VEVENT
BEGIN:VEVENT
DTSTART;TZID=America/Chicago:20260512T183000
DTEND;TZID=America/Chicago:20260512T200000
DTSTAMP:20260419T200826
CREATED:20240717T203850Z
LAST-MODIFIED:20240717T203935Z
UID:10001669-1778610600-1778616000@strutswings.com
SUMMARY:SINGO @ Struts of Oxford
DESCRIPTION:SINGO\nITS bingo w/ music! No singing required!\nAll ages welcome!\nAwesome\, fun\, & interactive new game! Come test your music knowledge!\nThe fun begins at 7:00 PM and it’s #FREE to play!\nGift card prizes!\n\n\n#singo #struts #strutswings\n#Weekly #OxfordAL #Oxfordalabama #BetterNightOut #SingoNearMe #SingoInAL
URL:https://strutswings.com/event/singo-struts-of-oxford/2026-05-12/
LOCATION:Struts of Oxford\, 88 Ali Way\, Oxford\, AL\, 36203\, United States
END:VEVENT
BEGIN:VEVENT
DTSTART;TZID=America/Chicago:20260513T170000
DTEND;TZID=America/Chicago:20260513T210000
DTSTAMP:20260419T200826
CREATED:20240717T205142Z
LAST-MODIFIED:20240717T205207Z
UID:10002979-1778691600-1778706000@strutswings.com
SUMMARY:WINE WEDNESDAY @ Struts of Oxford
DESCRIPTION:WINE WEDNESDAY\nAll glasses of wine and champagne are $4 from 5pm-9pm every wednesday!\n#Struts\n#StrutsWings\n#winewednesday\n#winewednesdays
URL:https://strutswings.com/event/wine-wednesday-struts-of-oxford/2026-05-13/
END:VEVENT
BEGIN:VEVENT
DTSTART;TZID=America/Chicago:20260513T190000
DTEND;TZID=America/Chicago:20260513T200000
DTSTAMP:20260419T200826
CREATED:20240717T204216Z
LAST-MODIFIED:20240717T204231Z
UID:10002195-1778698800-1778702400@strutswings.com
SUMMARY:FREE BINGO @ Struts of Oxford
DESCRIPTION:BINGO\nCash/gift card/food prizes!\nThe fun begins at 7:00 PM and it’s #FREE to play!\n#Weekly #Bingo #JacksonvilleAl #JacksonvilleAlabama #BetterNightOut #BingoNearMe #BingoInAL #struts #strutswings\n#FREEBINGO\n\n–
URL:https://strutswings.com/event/free-bingo-struts-of-oxford/2026-05-13/
LOCATION:Struts of Oxford\, 88 Ali Way\, Oxford\, AL\, 36203\, United States
END:VEVENT
BEGIN:VEVENT
DTSTART;TZID=America/Chicago:20260513T190000
DTEND;TZID=America/Chicago:20260513T203000
DTSTAMP:20260419T200826
CREATED:20240709T022430Z
LAST-MODIFIED:20240717T201613Z
UID:10000360-1778698800-1778704200@strutswings.com
SUMMARY:LIVE TRIVIA @ Struts of Jacksonville
DESCRIPTION:LIVE TRIVIA \nCash/gift card/food prizes!\nThe fun begins at 7:00 PM and it’s #FREE to play!\n#Weekly #Trivia #jacksonvilleal #jacksonvillealabama #BetterNightOut #TriviaNearMe #TriviaInAL #struts #strutswings #NorthAlabamaTrivia
URL:https://strutswings.com/event/live-trivia/2026-05-13/
LOCATION:Struts of Oxford\, 88 Ali Way\, Oxford\, AL\, 36203\, United States
END:VEVENT
BEGIN:VEVENT
DTSTART;TZID=America/Chicago:20260514T170000
DTEND;TZID=America/Chicago:20260514T210000
DTSTAMP:20260419T200826
CREATED:20240717T204956Z
LAST-MODIFIED:20240717T204956Z
UID:10002717-1778778000-1778792400@strutswings.com
SUMMARY:FROZEN DRINK THURSDAY @ Struts of Jacksonville
DESCRIPTION:FROZEN DRINK THURSDAY \nAll frozen drinks are $6 from 5pm-9pm!
URL:https://strutswings.com/event/frozen-drink-thursday-struts-of-jacksonville/2026-05-14/
END:VEVENT
BEGIN:VEVENT
DTSTART;TZID=America/Chicago:20260514T190000
DTEND;TZID=America/Chicago:20260514T200000
DTSTAMP:20260419T200826
CREATED:20240709T022812Z
LAST-MODIFIED:20240829T193033Z
UID:10000099-1778785200-1778788800@strutswings.com
SUMMARY:SINGO @ Struts of Jacksonville
DESCRIPTION:SINGO\nITS bingo w/ music! No singing required!\nAll ages welcome!\nAwesome\, fun\, & interactive new game! Come test your music knowledge!\nThe fun begins at 7:00 PM and it’s #FREE to play!\nGift card prizes!\n\n\n#singo #struts #strutswings\n#Weekly #jacksonvilleal #jacksonvillealabama #BetterNightOut #SingoNearMe #SingoInAL
URL:https://strutswings.com/event/singo/2026-05-14/
LOCATION:Struts of Oxford\, 88 Ali Way\, Oxford\, AL\, 36203\, United States
END:VEVENT
BEGIN:VEVENT
DTSTART;TZID=America/Chicago:20260518T170000
DTEND;TZID=America/Chicago:20260518T210000
DTSTAMP:20260419T200826
CREATED:20240717T204714Z
LAST-MODIFIED:20240717T204714Z
UID:10002456-1779123600-1779138000@strutswings.com
SUMMARY:MARGARITA MONDAY @ Struts of Jacksonville
DESCRIPTION:MARGARITA MONDAY \nFrom 5pm-9pm $5 (12oz) Jose Cuervo Margaritas \n \n 
URL:https://strutswings.com/event/margarita-monday-struts-of-jacksonville/2026-05-18/
END:VEVENT
BEGIN:VEVENT
DTSTART;TZID=America/Chicago:20260518T190000
DTEND;TZID=America/Chicago:20260518T200000
DTSTAMP:20260419T200826
CREATED:20240708T200704Z
LAST-MODIFIED:20240717T204416Z
UID:10000884-1779130800-1779134400@strutswings.com
SUMMARY:FREE BINGO @ Struts of Jacksonville
DESCRIPTION:BINGO\nCash/gift card/food prizes!\nThe fun begins at 7:00 PM and it’s #FREE to play!\n#Weekly #Bingo #jacksonvilleal #jacksonvillealabama #BetterNightOut #BingoNearMe #BingoInAL #struts #strutswings\n#FREEBINGO\n\n–
URL:https://strutswings.com/event/free-bingo/2026-05-18/
LOCATION:Struts of Oxford\, 88 Ali Way\, Oxford\, AL\, 36203\, United States
END:VEVENT
BEGIN:VEVENT
DTSTART;TZID=America/Chicago:20260518T190000
DTEND;TZID=America/Chicago:20260518T203000
DTSTAMP:20260419T200826
CREATED:20240717T203520Z
LAST-MODIFIED:20240717T203556Z
UID:10001145-1779130800-1779136200@strutswings.com
SUMMARY:LIVE TRIVIA @ Struts of Oxford
DESCRIPTION:LIVE TRIVIA \nCash/gift card/food prizes!\nThe fun begins at 7:00 PM and it’s #FREE to play!\n#Weekly #Trivia #OxfordAL #OxfordAlabama #BetterNightOut #TriviaNearMe #TriviaInAL #struts #strutswings #NorthAlabamaTrivia
URL:https://strutswings.com/event/live-trivia-struts-of-oxford-2/2026-05-18/
LOCATION:Struts of Oxford\, 88 Ali Way\, Oxford\, AL\, 36203\, United States
END:VEVENT
BEGIN:VEVENT
DTSTART;TZID=America/Chicago:20260519T183000
DTEND;TZID=America/Chicago:20260519T200000
DTSTAMP:20260419T200826
CREATED:20240717T203850Z
LAST-MODIFIED:20240717T203935Z
UID:10001670-1779215400-1779220800@strutswings.com
SUMMARY:SINGO @ Struts of Oxford
DESCRIPTION:SINGO\nITS bingo w/ music! No singing required!\nAll ages welcome!\nAwesome\, fun\, & interactive new game! Come test your music knowledge!\nThe fun begins at 7:00 PM and it’s #FREE to play!\nGift card prizes!\n\n\n#singo #struts #strutswings\n#Weekly #OxfordAL #Oxfordalabama #BetterNightOut #SingoNearMe #SingoInAL
URL:https://strutswings.com/event/singo-struts-of-oxford/2026-05-19/
LOCATION:Struts of Oxford\, 88 Ali Way\, Oxford\, AL\, 36203\, United States
END:VEVENT
BEGIN:VEVENT
DTSTART;TZID=America/Chicago:20260520T170000
DTEND;TZID=America/Chicago:20260520T210000
DTSTAMP:20260419T200826
CREATED:20240717T205142Z
LAST-MODIFIED:20240717T205207Z
UID:10002980-1779296400-1779310800@strutswings.com
SUMMARY:WINE WEDNESDAY @ Struts of Oxford
DESCRIPTION:WINE WEDNESDAY\nAll glasses of wine and champagne are $4 from 5pm-9pm every wednesday!\n#Struts\n#StrutsWings\n#winewednesday\n#winewednesdays
URL:https://strutswings.com/event/wine-wednesday-struts-of-oxford/2026-05-20/
END:VEVENT
BEGIN:VEVENT
DTSTART;TZID=America/Chicago:20260520T190000
DTEND;TZID=America/Chicago:20260520T200000
DTSTAMP:20260419T200826
CREATED:20240717T204216Z
LAST-MODIFIED:20240717T204231Z
UID:10002196-1779303600-1779307200@strutswings.com
SUMMARY:FREE BINGO @ Struts of Oxford
DESCRIPTION:BINGO\nCash/gift card/food prizes!\nThe fun begins at 7:00 PM and it’s #FREE to play!\n#Weekly #Bingo #JacksonvilleAl #JacksonvilleAlabama #BetterNightOut #BingoNearMe #BingoInAL #struts #strutswings\n#FREEBINGO\n\n–
URL:https://strutswings.com/event/free-bingo-struts-of-oxford/2026-05-20/
LOCATION:Struts of Oxford\, 88 Ali Way\, Oxford\, AL\, 36203\, United States
END:VEVENT
BEGIN:VEVENT
DTSTART;TZID=America/Chicago:20260520T190000
DTEND;TZID=America/Chicago:20260520T203000
DTSTAMP:20260419T200826
CREATED:20240709T022430Z
LAST-MODIFIED:20240717T201613Z
UID:10000361-1779303600-1779309000@strutswings.com
SUMMARY:LIVE TRIVIA @ Struts of Jacksonville
DESCRIPTION:LIVE TRIVIA \nCash/gift card/food prizes!\nThe fun begins at 7:00 PM and it’s #FREE to play!\n#Weekly #Trivia #jacksonvilleal #jacksonvillealabama #BetterNightOut #TriviaNearMe #TriviaInAL #struts #strutswings #NorthAlabamaTrivia
URL:https://strutswings.com/event/live-trivia/2026-05-20/
LOCATION:Struts of Oxford\, 88 Ali Way\, Oxford\, AL\, 36203\, United States
END:VEVENT
BEGIN:VEVENT
DTSTART;TZID=America/Chicago:20260521T170000
DTEND;TZID=America/Chicago:20260521T210000
DTSTAMP:20260419T200826
CREATED:20240717T204956Z
LAST-MODIFIED:20240717T204956Z
UID:10002718-1779382800-1779397200@strutswings.com
SUMMARY:FROZEN DRINK THURSDAY @ Struts of Jacksonville
DESCRIPTION:FROZEN DRINK THURSDAY \nAll frozen drinks are $6 from 5pm-9pm!
URL:https://strutswings.com/event/frozen-drink-thursday-struts-of-jacksonville/2026-05-21/
END:VEVENT
BEGIN:VEVENT
DTSTART;TZID=America/Chicago:20260521T190000
DTEND;TZID=America/Chicago:20260521T200000
DTSTAMP:20260419T200826
CREATED:20240709T022812Z
LAST-MODIFIED:20240829T193033Z
UID:10000100-1779390000-1779393600@strutswings.com
SUMMARY:SINGO @ Struts of Jacksonville
DESCRIPTION:SINGO\nITS bingo w/ music! No singing required!\nAll ages welcome!\nAwesome\, fun\, & interactive new game! Come test your music knowledge!\nThe fun begins at 7:00 PM and it’s #FREE to play!\nGift card prizes!\n\n\n#singo #struts #strutswings\n#Weekly #jacksonvilleal #jacksonvillealabama #BetterNightOut #SingoNearMe #SingoInAL
URL:https://strutswings.com/event/singo/2026-05-21/
LOCATION:Struts of Oxford\, 88 Ali Way\, Oxford\, AL\, 36203\, United States
END:VEVENT
BEGIN:VEVENT
DTSTART;TZID=America/Chicago:20260525T170000
DTEND;TZID=America/Chicago:20260525T210000
DTSTAMP:20260419T200826
CREATED:20240717T204714Z
LAST-MODIFIED:20240717T204714Z
UID:10002457-1779728400-1779742800@strutswings.com
SUMMARY:MARGARITA MONDAY @ Struts of Jacksonville
DESCRIPTION:MARGARITA MONDAY \nFrom 5pm-9pm $5 (12oz) Jose Cuervo Margaritas \n \n 
URL:https://strutswings.com/event/margarita-monday-struts-of-jacksonville/2026-05-25/
END:VEVENT
BEGIN:VEVENT
DTSTART;TZID=America/Chicago:20260525T190000
DTEND;TZID=America/Chicago:20260525T200000
DTSTAMP:20260419T200826
CREATED:20240708T200704Z
LAST-MODIFIED:20240717T204416Z
UID:10000885-1779735600-1779739200@strutswings.com
SUMMARY:FREE BINGO @ Struts of Jacksonville
DESCRIPTION:BINGO\nCash/gift card/food prizes!\nThe fun begins at 7:00 PM and it’s #FREE to play!\n#Weekly #Bingo #jacksonvilleal #jacksonvillealabama #BetterNightOut #BingoNearMe #BingoInAL #struts #strutswings\n#FREEBINGO\n\n–
URL:https://strutswings.com/event/free-bingo/2026-05-25/
LOCATION:Struts of Oxford\, 88 Ali Way\, Oxford\, AL\, 36203\, United States
END:VEVENT
BEGIN:VEVENT
DTSTART;TZID=America/Chicago:20260525T190000
DTEND;TZID=America/Chicago:20260525T203000
DTSTAMP:20260419T200826
CREATED:20240717T203520Z
LAST-MODIFIED:20240717T203556Z
UID:10001146-1779735600-1779741000@strutswings.com
SUMMARY:LIVE TRIVIA @ Struts of Oxford
DESCRIPTION:LIVE TRIVIA \nCash/gift card/food prizes!\nThe fun begins at 7:00 PM and it’s #FREE to play!\n#Weekly #Trivia #OxfordAL #OxfordAlabama #BetterNightOut #TriviaNearMe #TriviaInAL #struts #strutswings #NorthAlabamaTrivia
URL:https://strutswings.com/event/live-trivia-struts-of-oxford-2/2026-05-25/
LOCATION:Struts of Oxford\, 88 Ali Way\, Oxford\, AL\, 36203\, United States
END:VEVENT
BEGIN:VEVENT
DTSTART;TZID=America/Chicago:20260526T183000
DTEND;TZID=America/Chicago:20260526T200000
DTSTAMP:20260419T200826
CREATED:20240717T203850Z
LAST-MODIFIED:20240717T203935Z
UID:10001671-1779820200-1779825600@strutswings.com
SUMMARY:SINGO @ Struts of Oxford
DESCRIPTION:SINGO\nITS bingo w/ music! No singing required!\nAll ages welcome!\nAwesome\, fun\, & interactive new game! Come test your music knowledge!\nThe fun begins at 7:00 PM and it’s #FREE to play!\nGift card prizes!\n\n\n#singo #struts #strutswings\n#Weekly #OxfordAL #Oxfordalabama #BetterNightOut #SingoNearMe #SingoInAL
URL:https://strutswings.com/event/singo-struts-of-oxford/2026-05-26/
LOCATION:Struts of Oxford\, 88 Ali Way\, Oxford\, AL\, 36203\, United States
END:VEVENT
BEGIN:VEVENT
DTSTART;TZID=America/Chicago:20260527T170000
DTEND;TZID=America/Chicago:20260527T210000
DTSTAMP:20260419T200826
CREATED:20240717T205142Z
LAST-MODIFIED:20240717T205207Z
UID:10002981-1779901200-1779915600@strutswings.com
SUMMARY:WINE WEDNESDAY @ Struts of Oxford
DESCRIPTION:WINE WEDNESDAY\nAll glasses of wine and champagne are $4 from 5pm-9pm every wednesday!\n#Struts\n#StrutsWings\n#winewednesday\n#winewednesdays
URL:https://strutswings.com/event/wine-wednesday-struts-of-oxford/2026-05-27/
END:VEVENT
BEGIN:VEVENT
DTSTART;TZID=America/Chicago:20260527T190000
DTEND;TZID=America/Chicago:20260527T200000
DTSTAMP:20260419T200826
CREATED:20240717T204216Z
LAST-MODIFIED:20240717T204231Z
UID:10002197-1779908400-1779912000@strutswings.com
SUMMARY:FREE BINGO @ Struts of Oxford
DESCRIPTION:BINGO\nCash/gift card/food prizes!\nThe fun begins at 7:00 PM and it’s #FREE to play!\n#Weekly #Bingo #JacksonvilleAl #JacksonvilleAlabama #BetterNightOut #BingoNearMe #BingoInAL #struts #strutswings\n#FREEBINGO\n\n–
URL:https://strutswings.com/event/free-bingo-struts-of-oxford/2026-05-27/
LOCATION:Struts of Oxford\, 88 Ali Way\, Oxford\, AL\, 36203\, United States
END:VEVENT
BEGIN:VEVENT
DTSTART;TZID=America/Chicago:20260527T190000
DTEND;TZID=America/Chicago:20260527T203000
DTSTAMP:20260419T200826
CREATED:20240709T022430Z
LAST-MODIFIED:20240717T201613Z
UID:10000362-1779908400-1779913800@strutswings.com
SUMMARY:LIVE TRIVIA @ Struts of Jacksonville
DESCRIPTION:LIVE TRIVIA \nCash/gift card/food prizes!\nThe fun begins at 7:00 PM and it’s #FREE to play!\n#Weekly #Trivia #jacksonvilleal #jacksonvillealabama #BetterNightOut #TriviaNearMe #TriviaInAL #struts #strutswings #NorthAlabamaTrivia
URL:https://strutswings.com/event/live-trivia/2026-05-27/
LOCATION:Struts of Oxford\, 88 Ali Way\, Oxford\, AL\, 36203\, United States
END:VEVENT
BEGIN:VEVENT
DTSTART;TZID=America/Chicago:20260528T170000
DTEND;TZID=America/Chicago:20260528T210000
DTSTAMP:20260419T200826
CREATED:20240717T204956Z
LAST-MODIFIED:20240717T204956Z
UID:10002719-1779987600-1780002000@strutswings.com
SUMMARY:FROZEN DRINK THURSDAY @ Struts of Jacksonville
DESCRIPTION:FROZEN DRINK THURSDAY \nAll frozen drinks are $6 from 5pm-9pm!
URL:https://strutswings.com/event/frozen-drink-thursday-struts-of-jacksonville/2026-05-28/
END:VEVENT
END:VCALENDAR