BEGIN:VCALENDAR
VERSION:2.0
PRODID:-//Struts Famous Wings - ECPv6.5.1.6//NONSGML v1.0//EN
CALSCALE:GREGORIAN
METHOD:PUBLISH
X-WR-CALNAME:Struts Famous Wings
X-ORIGINAL-URL:https://strutswings.com
X-WR-CALDESC:Events for Struts Famous Wings
REFRESH-INTERVAL;VALUE=DURATION:PT1H
X-Robots-Tag:noindex
X-PUBLISHED-TTL:PT1H
BEGIN:VTIMEZONE
TZID:America/Chicago
BEGIN:DAYLIGHT
TZOFFSETFROM:-0600
TZOFFSETTO:-0500
TZNAME:CDT
DTSTART:20260308T080000
END:DAYLIGHT
BEGIN:STANDARD
TZOFFSETFROM:-0500
TZOFFSETTO:-0600
TZNAME:CST
DTSTART:20261101T070000
END:STANDARD
END:VTIMEZONE
BEGIN:VEVENT
DTSTART;TZID=America/Chicago:20260521T170000
DTEND;TZID=America/Chicago:20260521T210000
DTSTAMP:20260419T232352
CREATED:20240717T204956Z
LAST-MODIFIED:20240717T204956Z
UID:10002718-1779382800-1779397200@strutswings.com
SUMMARY:FROZEN DRINK THURSDAY @ Struts of Jacksonville
DESCRIPTION:FROZEN DRINK THURSDAY \nAll frozen drinks are $6 from 5pm-9pm!
URL:https://strutswings.com/event/frozen-drink-thursday-struts-of-jacksonville/2026-05-21/
END:VEVENT
BEGIN:VEVENT
DTSTART;TZID=America/Chicago:20260521T190000
DTEND;TZID=America/Chicago:20260521T200000
DTSTAMP:20260419T232352
CREATED:20240709T022812Z
LAST-MODIFIED:20240829T193033Z
UID:10000100-1779390000-1779393600@strutswings.com
SUMMARY:SINGO @ Struts of Jacksonville
DESCRIPTION:SINGO\nITS bingo w/ music! No singing required!\nAll ages welcome!\nAwesome\, fun\, & interactive new game! Come test your music knowledge!\nThe fun begins at 7:00 PM and it’s #FREE to play!\nGift card prizes!\n\n\n#singo #struts #strutswings\n#Weekly #jacksonvilleal #jacksonvillealabama #BetterNightOut #SingoNearMe #SingoInAL
URL:https://strutswings.com/event/singo/2026-05-21/
LOCATION:Struts of Oxford\, 88 Ali Way\, Oxford\, AL\, 36203\, United States
END:VEVENT
BEGIN:VEVENT
DTSTART;TZID=America/Chicago:20260525T170000
DTEND;TZID=America/Chicago:20260525T210000
DTSTAMP:20260419T232352
CREATED:20240717T204714Z
LAST-MODIFIED:20240717T204714Z
UID:10002457-1779728400-1779742800@strutswings.com
SUMMARY:MARGARITA MONDAY @ Struts of Jacksonville
DESCRIPTION:MARGARITA MONDAY \nFrom 5pm-9pm $5 (12oz) Jose Cuervo Margaritas \n \n 
URL:https://strutswings.com/event/margarita-monday-struts-of-jacksonville/2026-05-25/
END:VEVENT
BEGIN:VEVENT
DTSTART;TZID=America/Chicago:20260525T190000
DTEND;TZID=America/Chicago:20260525T200000
DTSTAMP:20260419T232352
CREATED:20240708T200704Z
LAST-MODIFIED:20240717T204416Z
UID:10000885-1779735600-1779739200@strutswings.com
SUMMARY:FREE BINGO @ Struts of Jacksonville
DESCRIPTION:BINGO\nCash/gift card/food prizes!\nThe fun begins at 7:00 PM and it’s #FREE to play!\n#Weekly #Bingo #jacksonvilleal #jacksonvillealabama #BetterNightOut #BingoNearMe #BingoInAL #struts #strutswings\n#FREEBINGO\n\n–
URL:https://strutswings.com/event/free-bingo/2026-05-25/
LOCATION:Struts of Oxford\, 88 Ali Way\, Oxford\, AL\, 36203\, United States
END:VEVENT
BEGIN:VEVENT
DTSTART;TZID=America/Chicago:20260525T190000
DTEND;TZID=America/Chicago:20260525T203000
DTSTAMP:20260419T232352
CREATED:20240717T203520Z
LAST-MODIFIED:20240717T203556Z
UID:10001146-1779735600-1779741000@strutswings.com
SUMMARY:LIVE TRIVIA @ Struts of Oxford
DESCRIPTION:LIVE TRIVIA \nCash/gift card/food prizes!\nThe fun begins at 7:00 PM and it’s #FREE to play!\n#Weekly #Trivia #OxfordAL #OxfordAlabama #BetterNightOut #TriviaNearMe #TriviaInAL #struts #strutswings #NorthAlabamaTrivia
URL:https://strutswings.com/event/live-trivia-struts-of-oxford-2/2026-05-25/
LOCATION:Struts of Oxford\, 88 Ali Way\, Oxford\, AL\, 36203\, United States
END:VEVENT
BEGIN:VEVENT
DTSTART;TZID=America/Chicago:20260526T183000
DTEND;TZID=America/Chicago:20260526T200000
DTSTAMP:20260419T232352
CREATED:20240717T203850Z
LAST-MODIFIED:20240717T203935Z
UID:10001671-1779820200-1779825600@strutswings.com
SUMMARY:SINGO @ Struts of Oxford
DESCRIPTION:SINGO\nITS bingo w/ music! No singing required!\nAll ages welcome!\nAwesome\, fun\, & interactive new game! Come test your music knowledge!\nThe fun begins at 7:00 PM and it’s #FREE to play!\nGift card prizes!\n\n\n#singo #struts #strutswings\n#Weekly #OxfordAL #Oxfordalabama #BetterNightOut #SingoNearMe #SingoInAL
URL:https://strutswings.com/event/singo-struts-of-oxford/2026-05-26/
LOCATION:Struts of Oxford\, 88 Ali Way\, Oxford\, AL\, 36203\, United States
END:VEVENT
BEGIN:VEVENT
DTSTART;TZID=America/Chicago:20260527T170000
DTEND;TZID=America/Chicago:20260527T210000
DTSTAMP:20260419T232352
CREATED:20240717T205142Z
LAST-MODIFIED:20240717T205207Z
UID:10002981-1779901200-1779915600@strutswings.com
SUMMARY:WINE WEDNESDAY @ Struts of Oxford
DESCRIPTION:WINE WEDNESDAY\nAll glasses of wine and champagne are $4 from 5pm-9pm every wednesday!\n#Struts\n#StrutsWings\n#winewednesday\n#winewednesdays
URL:https://strutswings.com/event/wine-wednesday-struts-of-oxford/2026-05-27/
END:VEVENT
BEGIN:VEVENT
DTSTART;TZID=America/Chicago:20260527T190000
DTEND;TZID=America/Chicago:20260527T200000
DTSTAMP:20260419T232352
CREATED:20240717T204216Z
LAST-MODIFIED:20240717T204231Z
UID:10002197-1779908400-1779912000@strutswings.com
SUMMARY:FREE BINGO @ Struts of Oxford
DESCRIPTION:BINGO\nCash/gift card/food prizes!\nThe fun begins at 7:00 PM and it’s #FREE to play!\n#Weekly #Bingo #JacksonvilleAl #JacksonvilleAlabama #BetterNightOut #BingoNearMe #BingoInAL #struts #strutswings\n#FREEBINGO\n\n–
URL:https://strutswings.com/event/free-bingo-struts-of-oxford/2026-05-27/
LOCATION:Struts of Oxford\, 88 Ali Way\, Oxford\, AL\, 36203\, United States
END:VEVENT
BEGIN:VEVENT
DTSTART;TZID=America/Chicago:20260527T190000
DTEND;TZID=America/Chicago:20260527T203000
DTSTAMP:20260419T232352
CREATED:20240709T022430Z
LAST-MODIFIED:20240717T201613Z
UID:10000362-1779908400-1779913800@strutswings.com
SUMMARY:LIVE TRIVIA @ Struts of Jacksonville
DESCRIPTION:LIVE TRIVIA \nCash/gift card/food prizes!\nThe fun begins at 7:00 PM and it’s #FREE to play!\n#Weekly #Trivia #jacksonvilleal #jacksonvillealabama #BetterNightOut #TriviaNearMe #TriviaInAL #struts #strutswings #NorthAlabamaTrivia
URL:https://strutswings.com/event/live-trivia/2026-05-27/
LOCATION:Struts of Oxford\, 88 Ali Way\, Oxford\, AL\, 36203\, United States
END:VEVENT
BEGIN:VEVENT
DTSTART;TZID=America/Chicago:20260528T170000
DTEND;TZID=America/Chicago:20260528T210000
DTSTAMP:20260419T232352
CREATED:20240717T204956Z
LAST-MODIFIED:20240717T204956Z
UID:10002719-1779987600-1780002000@strutswings.com
SUMMARY:FROZEN DRINK THURSDAY @ Struts of Jacksonville
DESCRIPTION:FROZEN DRINK THURSDAY \nAll frozen drinks are $6 from 5pm-9pm!
URL:https://strutswings.com/event/frozen-drink-thursday-struts-of-jacksonville/2026-05-28/
END:VEVENT
BEGIN:VEVENT
DTSTART;TZID=America/Chicago:20260528T190000
DTEND;TZID=America/Chicago:20260528T200000
DTSTAMP:20260419T232352
CREATED:20240709T022812Z
LAST-MODIFIED:20240829T193033Z
UID:10000101-1779994800-1779998400@strutswings.com
SUMMARY:SINGO @ Struts of Jacksonville
DESCRIPTION:SINGO\nITS bingo w/ music! No singing required!\nAll ages welcome!\nAwesome\, fun\, & interactive new game! Come test your music knowledge!\nThe fun begins at 7:00 PM and it’s #FREE to play!\nGift card prizes!\n\n\n#singo #struts #strutswings\n#Weekly #jacksonvilleal #jacksonvillealabama #BetterNightOut #SingoNearMe #SingoInAL
URL:https://strutswings.com/event/singo/2026-05-28/
LOCATION:Struts of Oxford\, 88 Ali Way\, Oxford\, AL\, 36203\, United States
END:VEVENT
BEGIN:VEVENT
DTSTART;TZID=America/Chicago:20260601T170000
DTEND;TZID=America/Chicago:20260601T210000
DTSTAMP:20260419T232352
CREATED:20240717T204714Z
LAST-MODIFIED:20240717T204714Z
UID:10002458-1780333200-1780347600@strutswings.com
SUMMARY:MARGARITA MONDAY @ Struts of Jacksonville
DESCRIPTION:MARGARITA MONDAY \nFrom 5pm-9pm $5 (12oz) Jose Cuervo Margaritas \n \n 
URL:https://strutswings.com/event/margarita-monday-struts-of-jacksonville/2026-06-01/
END:VEVENT
BEGIN:VEVENT
DTSTART;TZID=America/Chicago:20260601T190000
DTEND;TZID=America/Chicago:20260601T200000
DTSTAMP:20260419T232352
CREATED:20240708T200704Z
LAST-MODIFIED:20240717T204416Z
UID:10000886-1780340400-1780344000@strutswings.com
SUMMARY:FREE BINGO @ Struts of Jacksonville
DESCRIPTION:BINGO\nCash/gift card/food prizes!\nThe fun begins at 7:00 PM and it’s #FREE to play!\n#Weekly #Bingo #jacksonvilleal #jacksonvillealabama #BetterNightOut #BingoNearMe #BingoInAL #struts #strutswings\n#FREEBINGO\n\n–
URL:https://strutswings.com/event/free-bingo/2026-06-01/
LOCATION:Struts of Oxford\, 88 Ali Way\, Oxford\, AL\, 36203\, United States
END:VEVENT
BEGIN:VEVENT
DTSTART;TZID=America/Chicago:20260601T190000
DTEND;TZID=America/Chicago:20260601T203000
DTSTAMP:20260419T232352
CREATED:20240717T203520Z
LAST-MODIFIED:20240717T203556Z
UID:10001147-1780340400-1780345800@strutswings.com
SUMMARY:LIVE TRIVIA @ Struts of Oxford
DESCRIPTION:LIVE TRIVIA \nCash/gift card/food prizes!\nThe fun begins at 7:00 PM and it’s #FREE to play!\n#Weekly #Trivia #OxfordAL #OxfordAlabama #BetterNightOut #TriviaNearMe #TriviaInAL #struts #strutswings #NorthAlabamaTrivia
URL:https://strutswings.com/event/live-trivia-struts-of-oxford-2/2026-06-01/
LOCATION:Struts of Oxford\, 88 Ali Way\, Oxford\, AL\, 36203\, United States
END:VEVENT
BEGIN:VEVENT
DTSTART;TZID=America/Chicago:20260602T183000
DTEND;TZID=America/Chicago:20260602T200000
DTSTAMP:20260419T232352
CREATED:20240717T203850Z
LAST-MODIFIED:20240717T203935Z
UID:10001672-1780425000-1780430400@strutswings.com
SUMMARY:SINGO @ Struts of Oxford
DESCRIPTION:SINGO\nITS bingo w/ music! No singing required!\nAll ages welcome!\nAwesome\, fun\, & interactive new game! Come test your music knowledge!\nThe fun begins at 7:00 PM and it’s #FREE to play!\nGift card prizes!\n\n\n#singo #struts #strutswings\n#Weekly #OxfordAL #Oxfordalabama #BetterNightOut #SingoNearMe #SingoInAL
URL:https://strutswings.com/event/singo-struts-of-oxford/2026-06-02/
LOCATION:Struts of Oxford\, 88 Ali Way\, Oxford\, AL\, 36203\, United States
END:VEVENT
BEGIN:VEVENT
DTSTART;TZID=America/Chicago:20260603T170000
DTEND;TZID=America/Chicago:20260603T210000
DTSTAMP:20260419T232352
CREATED:20240717T205142Z
LAST-MODIFIED:20240717T205207Z
UID:10002982-1780506000-1780520400@strutswings.com
SUMMARY:WINE WEDNESDAY @ Struts of Oxford
DESCRIPTION:WINE WEDNESDAY\nAll glasses of wine and champagne are $4 from 5pm-9pm every wednesday!\n#Struts\n#StrutsWings\n#winewednesday\n#winewednesdays
URL:https://strutswings.com/event/wine-wednesday-struts-of-oxford/2026-06-03/
END:VEVENT
BEGIN:VEVENT
DTSTART;TZID=America/Chicago:20260603T190000
DTEND;TZID=America/Chicago:20260603T200000
DTSTAMP:20260419T232352
CREATED:20240717T204216Z
LAST-MODIFIED:20240717T204231Z
UID:10002198-1780513200-1780516800@strutswings.com
SUMMARY:FREE BINGO @ Struts of Oxford
DESCRIPTION:BINGO\nCash/gift card/food prizes!\nThe fun begins at 7:00 PM and it’s #FREE to play!\n#Weekly #Bingo #JacksonvilleAl #JacksonvilleAlabama #BetterNightOut #BingoNearMe #BingoInAL #struts #strutswings\n#FREEBINGO\n\n–
URL:https://strutswings.com/event/free-bingo-struts-of-oxford/2026-06-03/
LOCATION:Struts of Oxford\, 88 Ali Way\, Oxford\, AL\, 36203\, United States
END:VEVENT
BEGIN:VEVENT
DTSTART;TZID=America/Chicago:20260603T190000
DTEND;TZID=America/Chicago:20260603T203000
DTSTAMP:20260419T232352
CREATED:20240709T022430Z
LAST-MODIFIED:20240717T201613Z
UID:10000363-1780513200-1780518600@strutswings.com
SUMMARY:LIVE TRIVIA @ Struts of Jacksonville
DESCRIPTION:LIVE TRIVIA \nCash/gift card/food prizes!\nThe fun begins at 7:00 PM and it’s #FREE to play!\n#Weekly #Trivia #jacksonvilleal #jacksonvillealabama #BetterNightOut #TriviaNearMe #TriviaInAL #struts #strutswings #NorthAlabamaTrivia
URL:https://strutswings.com/event/live-trivia/2026-06-03/
LOCATION:Struts of Oxford\, 88 Ali Way\, Oxford\, AL\, 36203\, United States
END:VEVENT
BEGIN:VEVENT
DTSTART;TZID=America/Chicago:20260604T170000
DTEND;TZID=America/Chicago:20260604T210000
DTSTAMP:20260419T232352
CREATED:20240717T204956Z
LAST-MODIFIED:20240717T204956Z
UID:10002720-1780592400-1780606800@strutswings.com
SUMMARY:FROZEN DRINK THURSDAY @ Struts of Jacksonville
DESCRIPTION:FROZEN DRINK THURSDAY \nAll frozen drinks are $6 from 5pm-9pm!
URL:https://strutswings.com/event/frozen-drink-thursday-struts-of-jacksonville/2026-06-04/
END:VEVENT
BEGIN:VEVENT
DTSTART;TZID=America/Chicago:20260604T190000
DTEND;TZID=America/Chicago:20260604T200000
DTSTAMP:20260419T232352
CREATED:20240709T022812Z
LAST-MODIFIED:20240829T193033Z
UID:10000102-1780599600-1780603200@strutswings.com
SUMMARY:SINGO @ Struts of Jacksonville
DESCRIPTION:SINGO\nITS bingo w/ music! No singing required!\nAll ages welcome!\nAwesome\, fun\, & interactive new game! Come test your music knowledge!\nThe fun begins at 7:00 PM and it’s #FREE to play!\nGift card prizes!\n\n\n#singo #struts #strutswings\n#Weekly #jacksonvilleal #jacksonvillealabama #BetterNightOut #SingoNearMe #SingoInAL
URL:https://strutswings.com/event/singo/2026-06-04/
LOCATION:Struts of Oxford\, 88 Ali Way\, Oxford\, AL\, 36203\, United States
END:VEVENT
BEGIN:VEVENT
DTSTART;TZID=America/Chicago:20260608T170000
DTEND;TZID=America/Chicago:20260608T210000
DTSTAMP:20260419T232352
CREATED:20240717T204714Z
LAST-MODIFIED:20240717T204714Z
UID:10002459-1780938000-1780952400@strutswings.com
SUMMARY:MARGARITA MONDAY @ Struts of Jacksonville
DESCRIPTION:MARGARITA MONDAY \nFrom 5pm-9pm $5 (12oz) Jose Cuervo Margaritas \n \n 
URL:https://strutswings.com/event/margarita-monday-struts-of-jacksonville/2026-06-08/
END:VEVENT
BEGIN:VEVENT
DTSTART;TZID=America/Chicago:20260608T190000
DTEND;TZID=America/Chicago:20260608T200000
DTSTAMP:20260419T232352
CREATED:20240708T200704Z
LAST-MODIFIED:20240717T204416Z
UID:10000887-1780945200-1780948800@strutswings.com
SUMMARY:FREE BINGO @ Struts of Jacksonville
DESCRIPTION:BINGO\nCash/gift card/food prizes!\nThe fun begins at 7:00 PM and it’s #FREE to play!\n#Weekly #Bingo #jacksonvilleal #jacksonvillealabama #BetterNightOut #BingoNearMe #BingoInAL #struts #strutswings\n#FREEBINGO\n\n–
URL:https://strutswings.com/event/free-bingo/2026-06-08/
LOCATION:Struts of Oxford\, 88 Ali Way\, Oxford\, AL\, 36203\, United States
END:VEVENT
BEGIN:VEVENT
DTSTART;TZID=America/Chicago:20260608T190000
DTEND;TZID=America/Chicago:20260608T203000
DTSTAMP:20260419T232352
CREATED:20240717T203520Z
LAST-MODIFIED:20240717T203556Z
UID:10001148-1780945200-1780950600@strutswings.com
SUMMARY:LIVE TRIVIA @ Struts of Oxford
DESCRIPTION:LIVE TRIVIA \nCash/gift card/food prizes!\nThe fun begins at 7:00 PM and it’s #FREE to play!\n#Weekly #Trivia #OxfordAL #OxfordAlabama #BetterNightOut #TriviaNearMe #TriviaInAL #struts #strutswings #NorthAlabamaTrivia
URL:https://strutswings.com/event/live-trivia-struts-of-oxford-2/2026-06-08/
LOCATION:Struts of Oxford\, 88 Ali Way\, Oxford\, AL\, 36203\, United States
END:VEVENT
BEGIN:VEVENT
DTSTART;TZID=America/Chicago:20260609T183000
DTEND;TZID=America/Chicago:20260609T200000
DTSTAMP:20260419T232352
CREATED:20240717T203850Z
LAST-MODIFIED:20240717T203935Z
UID:10001673-1781029800-1781035200@strutswings.com
SUMMARY:SINGO @ Struts of Oxford
DESCRIPTION:SINGO\nITS bingo w/ music! No singing required!\nAll ages welcome!\nAwesome\, fun\, & interactive new game! Come test your music knowledge!\nThe fun begins at 7:00 PM and it’s #FREE to play!\nGift card prizes!\n\n\n#singo #struts #strutswings\n#Weekly #OxfordAL #Oxfordalabama #BetterNightOut #SingoNearMe #SingoInAL
URL:https://strutswings.com/event/singo-struts-of-oxford/2026-06-09/
LOCATION:Struts of Oxford\, 88 Ali Way\, Oxford\, AL\, 36203\, United States
END:VEVENT
BEGIN:VEVENT
DTSTART;TZID=America/Chicago:20260610T170000
DTEND;TZID=America/Chicago:20260610T210000
DTSTAMP:20260419T232352
CREATED:20240717T205142Z
LAST-MODIFIED:20240717T205207Z
UID:10002983-1781110800-1781125200@strutswings.com
SUMMARY:WINE WEDNESDAY @ Struts of Oxford
DESCRIPTION:WINE WEDNESDAY\nAll glasses of wine and champagne are $4 from 5pm-9pm every wednesday!\n#Struts\n#StrutsWings\n#winewednesday\n#winewednesdays
URL:https://strutswings.com/event/wine-wednesday-struts-of-oxford/2026-06-10/
END:VEVENT
BEGIN:VEVENT
DTSTART;TZID=America/Chicago:20260610T190000
DTEND;TZID=America/Chicago:20260610T200000
DTSTAMP:20260419T232352
CREATED:20240717T204216Z
LAST-MODIFIED:20240717T204231Z
UID:10002199-1781118000-1781121600@strutswings.com
SUMMARY:FREE BINGO @ Struts of Oxford
DESCRIPTION:BINGO\nCash/gift card/food prizes!\nThe fun begins at 7:00 PM and it’s #FREE to play!\n#Weekly #Bingo #JacksonvilleAl #JacksonvilleAlabama #BetterNightOut #BingoNearMe #BingoInAL #struts #strutswings\n#FREEBINGO\n\n–
URL:https://strutswings.com/event/free-bingo-struts-of-oxford/2026-06-10/
LOCATION:Struts of Oxford\, 88 Ali Way\, Oxford\, AL\, 36203\, United States
END:VEVENT
BEGIN:VEVENT
DTSTART;TZID=America/Chicago:20260610T190000
DTEND;TZID=America/Chicago:20260610T203000
DTSTAMP:20260419T232352
CREATED:20240709T022430Z
LAST-MODIFIED:20240717T201613Z
UID:10000364-1781118000-1781123400@strutswings.com
SUMMARY:LIVE TRIVIA @ Struts of Jacksonville
DESCRIPTION:LIVE TRIVIA \nCash/gift card/food prizes!\nThe fun begins at 7:00 PM and it’s #FREE to play!\n#Weekly #Trivia #jacksonvilleal #jacksonvillealabama #BetterNightOut #TriviaNearMe #TriviaInAL #struts #strutswings #NorthAlabamaTrivia
URL:https://strutswings.com/event/live-trivia/2026-06-10/
LOCATION:Struts of Oxford\, 88 Ali Way\, Oxford\, AL\, 36203\, United States
END:VEVENT
BEGIN:VEVENT
DTSTART;TZID=America/Chicago:20260611T170000
DTEND;TZID=America/Chicago:20260611T210000
DTSTAMP:20260419T232352
CREATED:20240717T204956Z
LAST-MODIFIED:20240717T204956Z
UID:10002721-1781197200-1781211600@strutswings.com
SUMMARY:FROZEN DRINK THURSDAY @ Struts of Jacksonville
DESCRIPTION:FROZEN DRINK THURSDAY \nAll frozen drinks are $6 from 5pm-9pm!
URL:https://strutswings.com/event/frozen-drink-thursday-struts-of-jacksonville/2026-06-11/
END:VEVENT
BEGIN:VEVENT
DTSTART;TZID=America/Chicago:20260611T190000
DTEND;TZID=America/Chicago:20260611T200000
DTSTAMP:20260419T232352
CREATED:20240709T022812Z
LAST-MODIFIED:20240829T193033Z
UID:10000103-1781204400-1781208000@strutswings.com
SUMMARY:SINGO @ Struts of Jacksonville
DESCRIPTION:SINGO\nITS bingo w/ music! No singing required!\nAll ages welcome!\nAwesome\, fun\, & interactive new game! Come test your music knowledge!\nThe fun begins at 7:00 PM and it’s #FREE to play!\nGift card prizes!\n\n\n#singo #struts #strutswings\n#Weekly #jacksonvilleal #jacksonvillealabama #BetterNightOut #SingoNearMe #SingoInAL
URL:https://strutswings.com/event/singo/2026-06-11/
LOCATION:Struts of Oxford\, 88 Ali Way\, Oxford\, AL\, 36203\, United States
END:VEVENT
BEGIN:VEVENT
DTSTART;TZID=America/Chicago:20260615T170000
DTEND;TZID=America/Chicago:20260615T210000
DTSTAMP:20260419T232352
CREATED:20240717T204714Z
LAST-MODIFIED:20240717T204714Z
UID:10002460-1781542800-1781557200@strutswings.com
SUMMARY:MARGARITA MONDAY @ Struts of Jacksonville
DESCRIPTION:MARGARITA MONDAY \nFrom 5pm-9pm $5 (12oz) Jose Cuervo Margaritas \n \n 
URL:https://strutswings.com/event/margarita-monday-struts-of-jacksonville/2026-06-15/
END:VEVENT
END:VCALENDAR