BEGIN:VCALENDAR
VERSION:2.0
PRODID:-//Struts Famous Wings - ECPv6.5.1.6//NONSGML v1.0//EN
CALSCALE:GREGORIAN
METHOD:PUBLISH
X-WR-CALNAME:Struts Famous Wings
X-ORIGINAL-URL:https://strutswings.com
X-WR-CALDESC:Events for Struts Famous Wings
REFRESH-INTERVAL;VALUE=DURATION:PT1H
X-Robots-Tag:noindex
X-PUBLISHED-TTL:PT1H
BEGIN:VTIMEZONE
TZID:America/Chicago
BEGIN:DAYLIGHT
TZOFFSETFROM:-0600
TZOFFSETTO:-0500
TZNAME:CDT
DTSTART:20270314T080000
END:DAYLIGHT
BEGIN:STANDARD
TZOFFSETFROM:-0500
TZOFFSETTO:-0600
TZNAME:CST
DTSTART:20271107T070000
END:STANDARD
END:VTIMEZONE
BEGIN:VEVENT
DTSTART;TZID=America/Chicago:20270218T170000
DTEND;TZID=America/Chicago:20270218T210000
DTSTAMP:20260422T081148
CREATED:20240717T204956Z
LAST-MODIFIED:20240717T204956Z
UID:10002757-1802970000-1802984400@strutswings.com
SUMMARY:FROZEN DRINK THURSDAY @ Struts of Jacksonville
DESCRIPTION:FROZEN DRINK THURSDAY \nAll frozen drinks are $6 from 5pm-9pm!
URL:https://strutswings.com/event/frozen-drink-thursday-struts-of-jacksonville/2027-02-18/
END:VEVENT
BEGIN:VEVENT
DTSTART;TZID=America/Chicago:20270218T190000
DTEND;TZID=America/Chicago:20270218T200000
DTSTAMP:20260422T081148
CREATED:20240709T022812Z
LAST-MODIFIED:20240829T193033Z
UID:10000139-1802977200-1802980800@strutswings.com
SUMMARY:SINGO @ Struts of Jacksonville
DESCRIPTION:SINGO\nITS bingo w/ music! No singing required!\nAll ages welcome!\nAwesome\, fun\, & interactive new game! Come test your music knowledge!\nThe fun begins at 7:00 PM and it’s #FREE to play!\nGift card prizes!\n\n\n#singo #struts #strutswings\n#Weekly #jacksonvilleal #jacksonvillealabama #BetterNightOut #SingoNearMe #SingoInAL
URL:https://strutswings.com/event/singo/2027-02-18/
LOCATION:Struts of Oxford\, 88 Ali Way\, Oxford\, AL\, 36203\, United States
END:VEVENT
BEGIN:VEVENT
DTSTART;TZID=America/Chicago:20270222T170000
DTEND;TZID=America/Chicago:20270222T210000
DTSTAMP:20260422T081148
CREATED:20240717T204714Z
LAST-MODIFIED:20240717T204714Z
UID:10002496-1803315600-1803330000@strutswings.com
SUMMARY:MARGARITA MONDAY @ Struts of Jacksonville
DESCRIPTION:MARGARITA MONDAY \nFrom 5pm-9pm $5 (12oz) Jose Cuervo Margaritas \n \n 
URL:https://strutswings.com/event/margarita-monday-struts-of-jacksonville/2027-02-22/
END:VEVENT
BEGIN:VEVENT
DTSTART;TZID=America/Chicago:20270222T190000
DTEND;TZID=America/Chicago:20270222T200000
DTSTAMP:20260422T081148
CREATED:20240708T200704Z
LAST-MODIFIED:20240717T204416Z
UID:10000924-1803322800-1803326400@strutswings.com
SUMMARY:FREE BINGO @ Struts of Jacksonville
DESCRIPTION:BINGO\nCash/gift card/food prizes!\nThe fun begins at 7:00 PM and it’s #FREE to play!\n#Weekly #Bingo #jacksonvilleal #jacksonvillealabama #BetterNightOut #BingoNearMe #BingoInAL #struts #strutswings\n#FREEBINGO\n\n–
URL:https://strutswings.com/event/free-bingo/2027-02-22/
LOCATION:Struts of Oxford\, 88 Ali Way\, Oxford\, AL\, 36203\, United States
END:VEVENT
BEGIN:VEVENT
DTSTART;TZID=America/Chicago:20270222T190000
DTEND;TZID=America/Chicago:20270222T203000
DTSTAMP:20260422T081148
CREATED:20240717T203520Z
LAST-MODIFIED:20240717T203556Z
UID:10001185-1803322800-1803328200@strutswings.com
SUMMARY:LIVE TRIVIA @ Struts of Oxford
DESCRIPTION:LIVE TRIVIA \nCash/gift card/food prizes!\nThe fun begins at 7:00 PM and it’s #FREE to play!\n#Weekly #Trivia #OxfordAL #OxfordAlabama #BetterNightOut #TriviaNearMe #TriviaInAL #struts #strutswings #NorthAlabamaTrivia
URL:https://strutswings.com/event/live-trivia-struts-of-oxford-2/2027-02-22/
LOCATION:Struts of Oxford\, 88 Ali Way\, Oxford\, AL\, 36203\, United States
END:VEVENT
BEGIN:VEVENT
DTSTART;TZID=America/Chicago:20270223T183000
DTEND;TZID=America/Chicago:20270223T200000
DTSTAMP:20260422T081148
CREATED:20240717T203850Z
LAST-MODIFIED:20240717T203935Z
UID:10001710-1803407400-1803412800@strutswings.com
SUMMARY:SINGO @ Struts of Oxford
DESCRIPTION:SINGO\nITS bingo w/ music! No singing required!\nAll ages welcome!\nAwesome\, fun\, & interactive new game! Come test your music knowledge!\nThe fun begins at 7:00 PM and it’s #FREE to play!\nGift card prizes!\n\n\n#singo #struts #strutswings\n#Weekly #OxfordAL #Oxfordalabama #BetterNightOut #SingoNearMe #SingoInAL
URL:https://strutswings.com/event/singo-struts-of-oxford/2027-02-23/
LOCATION:Struts of Oxford\, 88 Ali Way\, Oxford\, AL\, 36203\, United States
END:VEVENT
BEGIN:VEVENT
DTSTART;TZID=America/Chicago:20270224T170000
DTEND;TZID=America/Chicago:20270224T210000
DTSTAMP:20260422T081148
CREATED:20240717T205142Z
LAST-MODIFIED:20240717T205207Z
UID:10003020-1803488400-1803502800@strutswings.com
SUMMARY:WINE WEDNESDAY @ Struts of Oxford
DESCRIPTION:WINE WEDNESDAY\nAll glasses of wine and champagne are $4 from 5pm-9pm every wednesday!\n#Struts\n#StrutsWings\n#winewednesday\n#winewednesdays
URL:https://strutswings.com/event/wine-wednesday-struts-of-oxford/2027-02-24/
END:VEVENT
BEGIN:VEVENT
DTSTART;TZID=America/Chicago:20270224T190000
DTEND;TZID=America/Chicago:20270224T200000
DTSTAMP:20260422T081148
CREATED:20240717T204216Z
LAST-MODIFIED:20240717T204231Z
UID:10002236-1803495600-1803499200@strutswings.com
SUMMARY:FREE BINGO @ Struts of Oxford
DESCRIPTION:BINGO\nCash/gift card/food prizes!\nThe fun begins at 7:00 PM and it’s #FREE to play!\n#Weekly #Bingo #JacksonvilleAl #JacksonvilleAlabama #BetterNightOut #BingoNearMe #BingoInAL #struts #strutswings\n#FREEBINGO\n\n–
URL:https://strutswings.com/event/free-bingo-struts-of-oxford/2027-02-24/
LOCATION:Struts of Oxford\, 88 Ali Way\, Oxford\, AL\, 36203\, United States
END:VEVENT
BEGIN:VEVENT
DTSTART;TZID=America/Chicago:20270224T190000
DTEND;TZID=America/Chicago:20270224T203000
DTSTAMP:20260422T081148
CREATED:20240709T022430Z
LAST-MODIFIED:20240717T201613Z
UID:10000401-1803495600-1803501000@strutswings.com
SUMMARY:LIVE TRIVIA @ Struts of Jacksonville
DESCRIPTION:LIVE TRIVIA \nCash/gift card/food prizes!\nThe fun begins at 7:00 PM and it’s #FREE to play!\n#Weekly #Trivia #jacksonvilleal #jacksonvillealabama #BetterNightOut #TriviaNearMe #TriviaInAL #struts #strutswings #NorthAlabamaTrivia
URL:https://strutswings.com/event/live-trivia/2027-02-24/
LOCATION:Struts of Oxford\, 88 Ali Way\, Oxford\, AL\, 36203\, United States
END:VEVENT
BEGIN:VEVENT
DTSTART;TZID=America/Chicago:20270225T170000
DTEND;TZID=America/Chicago:20270225T210000
DTSTAMP:20260422T081148
CREATED:20240717T204956Z
LAST-MODIFIED:20240717T204956Z
UID:10002758-1803574800-1803589200@strutswings.com
SUMMARY:FROZEN DRINK THURSDAY @ Struts of Jacksonville
DESCRIPTION:FROZEN DRINK THURSDAY \nAll frozen drinks are $6 from 5pm-9pm!
URL:https://strutswings.com/event/frozen-drink-thursday-struts-of-jacksonville/2027-02-25/
END:VEVENT
BEGIN:VEVENT
DTSTART;TZID=America/Chicago:20270225T190000
DTEND;TZID=America/Chicago:20270225T200000
DTSTAMP:20260422T081148
CREATED:20240709T022812Z
LAST-MODIFIED:20240829T193033Z
UID:10000140-1803582000-1803585600@strutswings.com
SUMMARY:SINGO @ Struts of Jacksonville
DESCRIPTION:SINGO\nITS bingo w/ music! No singing required!\nAll ages welcome!\nAwesome\, fun\, & interactive new game! Come test your music knowledge!\nThe fun begins at 7:00 PM and it’s #FREE to play!\nGift card prizes!\n\n\n#singo #struts #strutswings\n#Weekly #jacksonvilleal #jacksonvillealabama #BetterNightOut #SingoNearMe #SingoInAL
URL:https://strutswings.com/event/singo/2027-02-25/
LOCATION:Struts of Oxford\, 88 Ali Way\, Oxford\, AL\, 36203\, United States
END:VEVENT
BEGIN:VEVENT
DTSTART;TZID=America/Chicago:20270301T170000
DTEND;TZID=America/Chicago:20270301T210000
DTSTAMP:20260422T081148
CREATED:20240717T204714Z
LAST-MODIFIED:20240717T204714Z
UID:10002497-1803920400-1803934800@strutswings.com
SUMMARY:MARGARITA MONDAY @ Struts of Jacksonville
DESCRIPTION:MARGARITA MONDAY \nFrom 5pm-9pm $5 (12oz) Jose Cuervo Margaritas \n \n 
URL:https://strutswings.com/event/margarita-monday-struts-of-jacksonville/2027-03-01/
END:VEVENT
BEGIN:VEVENT
DTSTART;TZID=America/Chicago:20270301T190000
DTEND;TZID=America/Chicago:20270301T200000
DTSTAMP:20260422T081148
CREATED:20240708T200704Z
LAST-MODIFIED:20240717T204416Z
UID:10000925-1803927600-1803931200@strutswings.com
SUMMARY:FREE BINGO @ Struts of Jacksonville
DESCRIPTION:BINGO\nCash/gift card/food prizes!\nThe fun begins at 7:00 PM and it’s #FREE to play!\n#Weekly #Bingo #jacksonvilleal #jacksonvillealabama #BetterNightOut #BingoNearMe #BingoInAL #struts #strutswings\n#FREEBINGO\n\n–
URL:https://strutswings.com/event/free-bingo/2027-03-01/
LOCATION:Struts of Oxford\, 88 Ali Way\, Oxford\, AL\, 36203\, United States
END:VEVENT
BEGIN:VEVENT
DTSTART;TZID=America/Chicago:20270301T190000
DTEND;TZID=America/Chicago:20270301T203000
DTSTAMP:20260422T081148
CREATED:20240717T203520Z
LAST-MODIFIED:20240717T203556Z
UID:10001186-1803927600-1803933000@strutswings.com
SUMMARY:LIVE TRIVIA @ Struts of Oxford
DESCRIPTION:LIVE TRIVIA \nCash/gift card/food prizes!\nThe fun begins at 7:00 PM and it’s #FREE to play!\n#Weekly #Trivia #OxfordAL #OxfordAlabama #BetterNightOut #TriviaNearMe #TriviaInAL #struts #strutswings #NorthAlabamaTrivia
URL:https://strutswings.com/event/live-trivia-struts-of-oxford-2/2027-03-01/
LOCATION:Struts of Oxford\, 88 Ali Way\, Oxford\, AL\, 36203\, United States
END:VEVENT
BEGIN:VEVENT
DTSTART;TZID=America/Chicago:20270302T183000
DTEND;TZID=America/Chicago:20270302T200000
DTSTAMP:20260422T081148
CREATED:20240717T203850Z
LAST-MODIFIED:20240717T203935Z
UID:10001711-1804012200-1804017600@strutswings.com
SUMMARY:SINGO @ Struts of Oxford
DESCRIPTION:SINGO\nITS bingo w/ music! No singing required!\nAll ages welcome!\nAwesome\, fun\, & interactive new game! Come test your music knowledge!\nThe fun begins at 7:00 PM and it’s #FREE to play!\nGift card prizes!\n\n\n#singo #struts #strutswings\n#Weekly #OxfordAL #Oxfordalabama #BetterNightOut #SingoNearMe #SingoInAL
URL:https://strutswings.com/event/singo-struts-of-oxford/2027-03-02/
LOCATION:Struts of Oxford\, 88 Ali Way\, Oxford\, AL\, 36203\, United States
END:VEVENT
BEGIN:VEVENT
DTSTART;TZID=America/Chicago:20270303T170000
DTEND;TZID=America/Chicago:20270303T210000
DTSTAMP:20260422T081148
CREATED:20240717T205142Z
LAST-MODIFIED:20240717T205207Z
UID:10003021-1804093200-1804107600@strutswings.com
SUMMARY:WINE WEDNESDAY @ Struts of Oxford
DESCRIPTION:WINE WEDNESDAY\nAll glasses of wine and champagne are $4 from 5pm-9pm every wednesday!\n#Struts\n#StrutsWings\n#winewednesday\n#winewednesdays
URL:https://strutswings.com/event/wine-wednesday-struts-of-oxford/2027-03-03/
END:VEVENT
BEGIN:VEVENT
DTSTART;TZID=America/Chicago:20270303T190000
DTEND;TZID=America/Chicago:20270303T200000
DTSTAMP:20260422T081148
CREATED:20240717T204216Z
LAST-MODIFIED:20240717T204231Z
UID:10002237-1804100400-1804104000@strutswings.com
SUMMARY:FREE BINGO @ Struts of Oxford
DESCRIPTION:BINGO\nCash/gift card/food prizes!\nThe fun begins at 7:00 PM and it’s #FREE to play!\n#Weekly #Bingo #JacksonvilleAl #JacksonvilleAlabama #BetterNightOut #BingoNearMe #BingoInAL #struts #strutswings\n#FREEBINGO\n\n–
URL:https://strutswings.com/event/free-bingo-struts-of-oxford/2027-03-03/
LOCATION:Struts of Oxford\, 88 Ali Way\, Oxford\, AL\, 36203\, United States
END:VEVENT
BEGIN:VEVENT
DTSTART;TZID=America/Chicago:20270303T190000
DTEND;TZID=America/Chicago:20270303T203000
DTSTAMP:20260422T081148
CREATED:20240709T022430Z
LAST-MODIFIED:20240717T201613Z
UID:10000402-1804100400-1804105800@strutswings.com
SUMMARY:LIVE TRIVIA @ Struts of Jacksonville
DESCRIPTION:LIVE TRIVIA \nCash/gift card/food prizes!\nThe fun begins at 7:00 PM and it’s #FREE to play!\n#Weekly #Trivia #jacksonvilleal #jacksonvillealabama #BetterNightOut #TriviaNearMe #TriviaInAL #struts #strutswings #NorthAlabamaTrivia
URL:https://strutswings.com/event/live-trivia/2027-03-03/
LOCATION:Struts of Oxford\, 88 Ali Way\, Oxford\, AL\, 36203\, United States
END:VEVENT
BEGIN:VEVENT
DTSTART;TZID=America/Chicago:20270304T170000
DTEND;TZID=America/Chicago:20270304T210000
DTSTAMP:20260422T081148
CREATED:20240717T204956Z
LAST-MODIFIED:20240717T204956Z
UID:10002759-1804179600-1804194000@strutswings.com
SUMMARY:FROZEN DRINK THURSDAY @ Struts of Jacksonville
DESCRIPTION:FROZEN DRINK THURSDAY \nAll frozen drinks are $6 from 5pm-9pm!
URL:https://strutswings.com/event/frozen-drink-thursday-struts-of-jacksonville/2027-03-04/
END:VEVENT
BEGIN:VEVENT
DTSTART;TZID=America/Chicago:20270304T190000
DTEND;TZID=America/Chicago:20270304T200000
DTSTAMP:20260422T081148
CREATED:20240709T022812Z
LAST-MODIFIED:20240829T193033Z
UID:10000141-1804186800-1804190400@strutswings.com
SUMMARY:SINGO @ Struts of Jacksonville
DESCRIPTION:SINGO\nITS bingo w/ music! No singing required!\nAll ages welcome!\nAwesome\, fun\, & interactive new game! Come test your music knowledge!\nThe fun begins at 7:00 PM and it’s #FREE to play!\nGift card prizes!\n\n\n#singo #struts #strutswings\n#Weekly #jacksonvilleal #jacksonvillealabama #BetterNightOut #SingoNearMe #SingoInAL
URL:https://strutswings.com/event/singo/2027-03-04/
LOCATION:Struts of Oxford\, 88 Ali Way\, Oxford\, AL\, 36203\, United States
END:VEVENT
BEGIN:VEVENT
DTSTART;TZID=America/Chicago:20270308T170000
DTEND;TZID=America/Chicago:20270308T210000
DTSTAMP:20260422T081148
CREATED:20240717T204714Z
LAST-MODIFIED:20240717T204714Z
UID:10002498-1804525200-1804539600@strutswings.com
SUMMARY:MARGARITA MONDAY @ Struts of Jacksonville
DESCRIPTION:MARGARITA MONDAY \nFrom 5pm-9pm $5 (12oz) Jose Cuervo Margaritas \n \n 
URL:https://strutswings.com/event/margarita-monday-struts-of-jacksonville/2027-03-08/
END:VEVENT
BEGIN:VEVENT
DTSTART;TZID=America/Chicago:20270308T190000
DTEND;TZID=America/Chicago:20270308T200000
DTSTAMP:20260422T081148
CREATED:20240708T200704Z
LAST-MODIFIED:20240717T204416Z
UID:10000926-1804532400-1804536000@strutswings.com
SUMMARY:FREE BINGO @ Struts of Jacksonville
DESCRIPTION:BINGO\nCash/gift card/food prizes!\nThe fun begins at 7:00 PM and it’s #FREE to play!\n#Weekly #Bingo #jacksonvilleal #jacksonvillealabama #BetterNightOut #BingoNearMe #BingoInAL #struts #strutswings\n#FREEBINGO\n\n–
URL:https://strutswings.com/event/free-bingo/2027-03-08/
LOCATION:Struts of Oxford\, 88 Ali Way\, Oxford\, AL\, 36203\, United States
END:VEVENT
BEGIN:VEVENT
DTSTART;TZID=America/Chicago:20270308T190000
DTEND;TZID=America/Chicago:20270308T203000
DTSTAMP:20260422T081148
CREATED:20240717T203520Z
LAST-MODIFIED:20240717T203556Z
UID:10001187-1804532400-1804537800@strutswings.com
SUMMARY:LIVE TRIVIA @ Struts of Oxford
DESCRIPTION:LIVE TRIVIA \nCash/gift card/food prizes!\nThe fun begins at 7:00 PM and it’s #FREE to play!\n#Weekly #Trivia #OxfordAL #OxfordAlabama #BetterNightOut #TriviaNearMe #TriviaInAL #struts #strutswings #NorthAlabamaTrivia
URL:https://strutswings.com/event/live-trivia-struts-of-oxford-2/2027-03-08/
LOCATION:Struts of Oxford\, 88 Ali Way\, Oxford\, AL\, 36203\, United States
END:VEVENT
BEGIN:VEVENT
DTSTART;TZID=America/Chicago:20270309T183000
DTEND;TZID=America/Chicago:20270309T200000
DTSTAMP:20260422T081148
CREATED:20240717T203850Z
LAST-MODIFIED:20240717T203935Z
UID:10001712-1804617000-1804622400@strutswings.com
SUMMARY:SINGO @ Struts of Oxford
DESCRIPTION:SINGO\nITS bingo w/ music! No singing required!\nAll ages welcome!\nAwesome\, fun\, & interactive new game! Come test your music knowledge!\nThe fun begins at 7:00 PM and it’s #FREE to play!\nGift card prizes!\n\n\n#singo #struts #strutswings\n#Weekly #OxfordAL #Oxfordalabama #BetterNightOut #SingoNearMe #SingoInAL
URL:https://strutswings.com/event/singo-struts-of-oxford/2027-03-09/
LOCATION:Struts of Oxford\, 88 Ali Way\, Oxford\, AL\, 36203\, United States
END:VEVENT
BEGIN:VEVENT
DTSTART;TZID=America/Chicago:20270310T170000
DTEND;TZID=America/Chicago:20270310T210000
DTSTAMP:20260422T081148
CREATED:20240717T205142Z
LAST-MODIFIED:20240717T205207Z
UID:10003022-1804698000-1804712400@strutswings.com
SUMMARY:WINE WEDNESDAY @ Struts of Oxford
DESCRIPTION:WINE WEDNESDAY\nAll glasses of wine and champagne are $4 from 5pm-9pm every wednesday!\n#Struts\n#StrutsWings\n#winewednesday\n#winewednesdays
URL:https://strutswings.com/event/wine-wednesday-struts-of-oxford/2027-03-10/
END:VEVENT
BEGIN:VEVENT
DTSTART;TZID=America/Chicago:20270310T190000
DTEND;TZID=America/Chicago:20270310T200000
DTSTAMP:20260422T081148
CREATED:20240717T204216Z
LAST-MODIFIED:20240717T204231Z
UID:10002238-1804705200-1804708800@strutswings.com
SUMMARY:FREE BINGO @ Struts of Oxford
DESCRIPTION:BINGO\nCash/gift card/food prizes!\nThe fun begins at 7:00 PM and it’s #FREE to play!\n#Weekly #Bingo #JacksonvilleAl #JacksonvilleAlabama #BetterNightOut #BingoNearMe #BingoInAL #struts #strutswings\n#FREEBINGO\n\n–
URL:https://strutswings.com/event/free-bingo-struts-of-oxford/2027-03-10/
LOCATION:Struts of Oxford\, 88 Ali Way\, Oxford\, AL\, 36203\, United States
END:VEVENT
BEGIN:VEVENT
DTSTART;TZID=America/Chicago:20270310T190000
DTEND;TZID=America/Chicago:20270310T203000
DTSTAMP:20260422T081148
CREATED:20240709T022430Z
LAST-MODIFIED:20240717T201613Z
UID:10000403-1804705200-1804710600@strutswings.com
SUMMARY:LIVE TRIVIA @ Struts of Jacksonville
DESCRIPTION:LIVE TRIVIA \nCash/gift card/food prizes!\nThe fun begins at 7:00 PM and it’s #FREE to play!\n#Weekly #Trivia #jacksonvilleal #jacksonvillealabama #BetterNightOut #TriviaNearMe #TriviaInAL #struts #strutswings #NorthAlabamaTrivia
URL:https://strutswings.com/event/live-trivia/2027-03-10/
LOCATION:Struts of Oxford\, 88 Ali Way\, Oxford\, AL\, 36203\, United States
END:VEVENT
BEGIN:VEVENT
DTSTART;TZID=America/Chicago:20270311T170000
DTEND;TZID=America/Chicago:20270311T210000
DTSTAMP:20260422T081148
CREATED:20240717T204956Z
LAST-MODIFIED:20240717T204956Z
UID:10002760-1804784400-1804798800@strutswings.com
SUMMARY:FROZEN DRINK THURSDAY @ Struts of Jacksonville
DESCRIPTION:FROZEN DRINK THURSDAY \nAll frozen drinks are $6 from 5pm-9pm!
URL:https://strutswings.com/event/frozen-drink-thursday-struts-of-jacksonville/2027-03-11/
END:VEVENT
BEGIN:VEVENT
DTSTART;TZID=America/Chicago:20270311T190000
DTEND;TZID=America/Chicago:20270311T200000
DTSTAMP:20260422T081148
CREATED:20240709T022812Z
LAST-MODIFIED:20240829T193033Z
UID:10000142-1804791600-1804795200@strutswings.com
SUMMARY:SINGO @ Struts of Jacksonville
DESCRIPTION:SINGO\nITS bingo w/ music! No singing required!\nAll ages welcome!\nAwesome\, fun\, & interactive new game! Come test your music knowledge!\nThe fun begins at 7:00 PM and it’s #FREE to play!\nGift card prizes!\n\n\n#singo #struts #strutswings\n#Weekly #jacksonvilleal #jacksonvillealabama #BetterNightOut #SingoNearMe #SingoInAL
URL:https://strutswings.com/event/singo/2027-03-11/
LOCATION:Struts of Oxford\, 88 Ali Way\, Oxford\, AL\, 36203\, United States
END:VEVENT
BEGIN:VEVENT
DTSTART;TZID=America/Chicago:20270315T170000
DTEND;TZID=America/Chicago:20270315T210000
DTSTAMP:20260422T081148
CREATED:20240717T204714Z
LAST-MODIFIED:20240717T204714Z
UID:10002499-1805130000-1805144400@strutswings.com
SUMMARY:MARGARITA MONDAY @ Struts of Jacksonville
DESCRIPTION:MARGARITA MONDAY \nFrom 5pm-9pm $5 (12oz) Jose Cuervo Margaritas \n \n 
URL:https://strutswings.com/event/margarita-monday-struts-of-jacksonville/2027-03-15/
END:VEVENT
END:VCALENDAR