BEGIN:VCALENDAR
VERSION:2.0
PRODID:-//Struts Famous Wings - ECPv6.5.1.6//NONSGML v1.0//EN
CALSCALE:GREGORIAN
METHOD:PUBLISH
X-ORIGINAL-URL:https://strutswings.com
X-WR-CALDESC:Events for Struts Famous Wings
REFRESH-INTERVAL;VALUE=DURATION:PT1H
X-Robots-Tag:noindex
X-PUBLISHED-TTL:PT1H
BEGIN:VTIMEZONE
TZID:America/Chicago
BEGIN:DAYLIGHT
TZOFFSETFROM:-0600
TZOFFSETTO:-0500
TZNAME:CDT
DTSTART:20270314T080000
END:DAYLIGHT
BEGIN:STANDARD
TZOFFSETFROM:-0500
TZOFFSETTO:-0600
TZNAME:CST
DTSTART:20271107T070000
END:STANDARD
END:VTIMEZONE
BEGIN:VEVENT
DTSTART;TZID=America/Chicago:20270819T190000
DTEND;TZID=America/Chicago:20270819T200000
DTSTAMP:20260425T163016
CREATED:20240709T022812Z
LAST-MODIFIED:20240829T193033Z
UID:10000165-1818702000-1818705600@strutswings.com
SUMMARY:SINGO @ Struts of Jacksonville
DESCRIPTION:SINGO\nITS bingo w/ music! No singing required!\nAll ages welcome!\nAwesome\, fun\, & interactive new game! Come test your music knowledge!\nThe fun begins at 7:00 PM and it’s #FREE to play!\nGift card prizes!\n\n\n#singo #struts #strutswings\n#Weekly #jacksonvilleal #jacksonvillealabama #BetterNightOut #SingoNearMe #SingoInAL
URL:https://strutswings.com/event/singo/2027-08-19/
LOCATION:Struts of Oxford\, 88 Ali Way\, Oxford\, AL\, 36203\, United States
END:VEVENT
BEGIN:VEVENT
DTSTART;TZID=America/Chicago:20270823T170000
DTEND;TZID=America/Chicago:20270823T210000
DTSTAMP:20260425T163016
CREATED:20240717T204714Z
LAST-MODIFIED:20240717T204714Z
UID:10002522-1819040400-1819054800@strutswings.com
SUMMARY:MARGARITA MONDAY @ Struts of Jacksonville
DESCRIPTION:MARGARITA MONDAY \nFrom 5pm-9pm $5 (12oz) Jose Cuervo Margaritas \n \n 
URL:https://strutswings.com/event/margarita-monday-struts-of-jacksonville/2027-08-23/
END:VEVENT
BEGIN:VEVENT
DTSTART;TZID=America/Chicago:20270823T190000
DTEND;TZID=America/Chicago:20270823T200000
DTSTAMP:20260425T163016
CREATED:20240708T200704Z
LAST-MODIFIED:20240717T204416Z
UID:10000950-1819047600-1819051200@strutswings.com
SUMMARY:FREE BINGO @ Struts of Jacksonville
DESCRIPTION:BINGO\nCash/gift card/food prizes!\nThe fun begins at 7:00 PM and it’s #FREE to play!\n#Weekly #Bingo #jacksonvilleal #jacksonvillealabama #BetterNightOut #BingoNearMe #BingoInAL #struts #strutswings\n#FREEBINGO\n\n–
URL:https://strutswings.com/event/free-bingo/2027-08-23/
LOCATION:Struts of Oxford\, 88 Ali Way\, Oxford\, AL\, 36203\, United States
END:VEVENT
BEGIN:VEVENT
DTSTART;TZID=America/Chicago:20270823T190000
DTEND;TZID=America/Chicago:20270823T203000
DTSTAMP:20260425T163016
CREATED:20240717T203520Z
LAST-MODIFIED:20240717T203556Z
UID:10001211-1819047600-1819053000@strutswings.com
SUMMARY:LIVE TRIVIA @ Struts of Oxford
DESCRIPTION:LIVE TRIVIA \nCash/gift card/food prizes!\nThe fun begins at 7:00 PM and it’s #FREE to play!\n#Weekly #Trivia #OxfordAL #OxfordAlabama #BetterNightOut #TriviaNearMe #TriviaInAL #struts #strutswings #NorthAlabamaTrivia
URL:https://strutswings.com/event/live-trivia-struts-of-oxford-2/2027-08-23/
LOCATION:Struts of Oxford\, 88 Ali Way\, Oxford\, AL\, 36203\, United States
END:VEVENT
BEGIN:VEVENT
DTSTART;TZID=America/Chicago:20270824T183000
DTEND;TZID=America/Chicago:20270824T200000
DTSTAMP:20260425T163016
CREATED:20240717T203850Z
LAST-MODIFIED:20240717T203935Z
UID:10001736-1819132200-1819137600@strutswings.com
SUMMARY:SINGO @ Struts of Oxford
DESCRIPTION:SINGO\nITS bingo w/ music! No singing required!\nAll ages welcome!\nAwesome\, fun\, & interactive new game! Come test your music knowledge!\nThe fun begins at 7:00 PM and it’s #FREE to play!\nGift card prizes!\n\n\n#singo #struts #strutswings\n#Weekly #OxfordAL #Oxfordalabama #BetterNightOut #SingoNearMe #SingoInAL
URL:https://strutswings.com/event/singo-struts-of-oxford/2027-08-24/
LOCATION:Struts of Oxford\, 88 Ali Way\, Oxford\, AL\, 36203\, United States
END:VEVENT
BEGIN:VEVENT
DTSTART;TZID=America/Chicago:20270825T170000
DTEND;TZID=America/Chicago:20270825T210000
DTSTAMP:20260425T163016
CREATED:20240717T205142Z
LAST-MODIFIED:20240717T205207Z
UID:10003046-1819213200-1819227600@strutswings.com
SUMMARY:WINE WEDNESDAY @ Struts of Oxford
DESCRIPTION:WINE WEDNESDAY\nAll glasses of wine and champagne are $4 from 5pm-9pm every wednesday!\n#Struts\n#StrutsWings\n#winewednesday\n#winewednesdays
URL:https://strutswings.com/event/wine-wednesday-struts-of-oxford/2027-08-25/
END:VEVENT
BEGIN:VEVENT
DTSTART;TZID=America/Chicago:20270825T190000
DTEND;TZID=America/Chicago:20270825T200000
DTSTAMP:20260425T163016
CREATED:20240717T204216Z
LAST-MODIFIED:20240717T204231Z
UID:10002262-1819220400-1819224000@strutswings.com
SUMMARY:FREE BINGO @ Struts of Oxford
DESCRIPTION:BINGO\nCash/gift card/food prizes!\nThe fun begins at 7:00 PM and it’s #FREE to play!\n#Weekly #Bingo #JacksonvilleAl #JacksonvilleAlabama #BetterNightOut #BingoNearMe #BingoInAL #struts #strutswings\n#FREEBINGO\n\n–
URL:https://strutswings.com/event/free-bingo-struts-of-oxford/2027-08-25/
LOCATION:Struts of Oxford\, 88 Ali Way\, Oxford\, AL\, 36203\, United States
END:VEVENT
BEGIN:VEVENT
DTSTART;TZID=America/Chicago:20270825T190000
DTEND;TZID=America/Chicago:20270825T203000
DTSTAMP:20260425T163016
CREATED:20240709T022430Z
LAST-MODIFIED:20240717T201613Z
UID:10000427-1819220400-1819225800@strutswings.com
SUMMARY:LIVE TRIVIA @ Struts of Jacksonville
DESCRIPTION:LIVE TRIVIA \nCash/gift card/food prizes!\nThe fun begins at 7:00 PM and it’s #FREE to play!\n#Weekly #Trivia #jacksonvilleal #jacksonvillealabama #BetterNightOut #TriviaNearMe #TriviaInAL #struts #strutswings #NorthAlabamaTrivia
URL:https://strutswings.com/event/live-trivia/2027-08-25/
LOCATION:Struts of Oxford\, 88 Ali Way\, Oxford\, AL\, 36203\, United States
END:VEVENT
BEGIN:VEVENT
DTSTART;TZID=America/Chicago:20270826T170000
DTEND;TZID=America/Chicago:20270826T210000
DTSTAMP:20260425T163016
CREATED:20240717T204956Z
LAST-MODIFIED:20240717T204956Z
UID:10002784-1819299600-1819314000@strutswings.com
SUMMARY:FROZEN DRINK THURSDAY @ Struts of Jacksonville
DESCRIPTION:FROZEN DRINK THURSDAY \nAll frozen drinks are $6 from 5pm-9pm!
URL:https://strutswings.com/event/frozen-drink-thursday-struts-of-jacksonville/2027-08-26/
END:VEVENT
BEGIN:VEVENT
DTSTART;TZID=America/Chicago:20270826T190000
DTEND;TZID=America/Chicago:20270826T200000
DTSTAMP:20260425T163016
CREATED:20240709T022812Z
LAST-MODIFIED:20240829T193033Z
UID:10000166-1819306800-1819310400@strutswings.com
SUMMARY:SINGO @ Struts of Jacksonville
DESCRIPTION:SINGO\nITS bingo w/ music! No singing required!\nAll ages welcome!\nAwesome\, fun\, & interactive new game! Come test your music knowledge!\nThe fun begins at 7:00 PM and it’s #FREE to play!\nGift card prizes!\n\n\n#singo #struts #strutswings\n#Weekly #jacksonvilleal #jacksonvillealabama #BetterNightOut #SingoNearMe #SingoInAL
URL:https://strutswings.com/event/singo/2027-08-26/
LOCATION:Struts of Oxford\, 88 Ali Way\, Oxford\, AL\, 36203\, United States
END:VEVENT
BEGIN:VEVENT
DTSTART;TZID=America/Chicago:20270830T170000
DTEND;TZID=America/Chicago:20270830T210000
DTSTAMP:20260425T163016
CREATED:20240717T204714Z
LAST-MODIFIED:20240717T204714Z
UID:10002523-1819645200-1819659600@strutswings.com
SUMMARY:MARGARITA MONDAY @ Struts of Jacksonville
DESCRIPTION:MARGARITA MONDAY \nFrom 5pm-9pm $5 (12oz) Jose Cuervo Margaritas \n \n 
URL:https://strutswings.com/event/margarita-monday-struts-of-jacksonville/2027-08-30/
END:VEVENT
BEGIN:VEVENT
DTSTART;TZID=America/Chicago:20270830T190000
DTEND;TZID=America/Chicago:20270830T200000
DTSTAMP:20260425T163016
CREATED:20240708T200704Z
LAST-MODIFIED:20240717T204416Z
UID:10000951-1819652400-1819656000@strutswings.com
SUMMARY:FREE BINGO @ Struts of Jacksonville
DESCRIPTION:BINGO\nCash/gift card/food prizes!\nThe fun begins at 7:00 PM and it’s #FREE to play!\n#Weekly #Bingo #jacksonvilleal #jacksonvillealabama #BetterNightOut #BingoNearMe #BingoInAL #struts #strutswings\n#FREEBINGO\n\n–
URL:https://strutswings.com/event/free-bingo/2027-08-30/
LOCATION:Struts of Oxford\, 88 Ali Way\, Oxford\, AL\, 36203\, United States
END:VEVENT
BEGIN:VEVENT
DTSTART;TZID=America/Chicago:20270830T190000
DTEND;TZID=America/Chicago:20270830T203000
DTSTAMP:20260425T163016
CREATED:20240717T203520Z
LAST-MODIFIED:20240717T203556Z
UID:10001212-1819652400-1819657800@strutswings.com
SUMMARY:LIVE TRIVIA @ Struts of Oxford
DESCRIPTION:LIVE TRIVIA \nCash/gift card/food prizes!\nThe fun begins at 7:00 PM and it’s #FREE to play!\n#Weekly #Trivia #OxfordAL #OxfordAlabama #BetterNightOut #TriviaNearMe #TriviaInAL #struts #strutswings #NorthAlabamaTrivia
URL:https://strutswings.com/event/live-trivia-struts-of-oxford-2/2027-08-30/
LOCATION:Struts of Oxford\, 88 Ali Way\, Oxford\, AL\, 36203\, United States
END:VEVENT
BEGIN:VEVENT
DTSTART;TZID=America/Chicago:20270831T183000
DTEND;TZID=America/Chicago:20270831T200000
DTSTAMP:20260425T163016
CREATED:20240717T203850Z
LAST-MODIFIED:20240717T203935Z
UID:10001737-1819737000-1819742400@strutswings.com
SUMMARY:SINGO @ Struts of Oxford
DESCRIPTION:SINGO\nITS bingo w/ music! No singing required!\nAll ages welcome!\nAwesome\, fun\, & interactive new game! Come test your music knowledge!\nThe fun begins at 7:00 PM and it’s #FREE to play!\nGift card prizes!\n\n\n#singo #struts #strutswings\n#Weekly #OxfordAL #Oxfordalabama #BetterNightOut #SingoNearMe #SingoInAL
URL:https://strutswings.com/event/singo-struts-of-oxford/2027-08-31/
LOCATION:Struts of Oxford\, 88 Ali Way\, Oxford\, AL\, 36203\, United States
END:VEVENT
BEGIN:VEVENT
DTSTART;TZID=America/Chicago:20270901T170000
DTEND;TZID=America/Chicago:20270901T210000
DTSTAMP:20260425T163016
CREATED:20240717T205142Z
LAST-MODIFIED:20240717T205207Z
UID:10003047-1819818000-1819832400@strutswings.com
SUMMARY:WINE WEDNESDAY @ Struts of Oxford
DESCRIPTION:WINE WEDNESDAY\nAll glasses of wine and champagne are $4 from 5pm-9pm every wednesday!\n#Struts\n#StrutsWings\n#winewednesday\n#winewednesdays
URL:https://strutswings.com/event/wine-wednesday-struts-of-oxford/2027-09-01/
END:VEVENT
BEGIN:VEVENT
DTSTART;TZID=America/Chicago:20270901T190000
DTEND;TZID=America/Chicago:20270901T200000
DTSTAMP:20260425T163016
CREATED:20240717T204216Z
LAST-MODIFIED:20240717T204231Z
UID:10002263-1819825200-1819828800@strutswings.com
SUMMARY:FREE BINGO @ Struts of Oxford
DESCRIPTION:BINGO\nCash/gift card/food prizes!\nThe fun begins at 7:00 PM and it’s #FREE to play!\n#Weekly #Bingo #JacksonvilleAl #JacksonvilleAlabama #BetterNightOut #BingoNearMe #BingoInAL #struts #strutswings\n#FREEBINGO\n\n–
URL:https://strutswings.com/event/free-bingo-struts-of-oxford/2027-09-01/
LOCATION:Struts of Oxford\, 88 Ali Way\, Oxford\, AL\, 36203\, United States
END:VEVENT
BEGIN:VEVENT
DTSTART;TZID=America/Chicago:20270901T190000
DTEND;TZID=America/Chicago:20270901T203000
DTSTAMP:20260425T163016
CREATED:20240709T022430Z
LAST-MODIFIED:20240717T201613Z
UID:10000428-1819825200-1819830600@strutswings.com
SUMMARY:LIVE TRIVIA @ Struts of Jacksonville
DESCRIPTION:LIVE TRIVIA \nCash/gift card/food prizes!\nThe fun begins at 7:00 PM and it’s #FREE to play!\n#Weekly #Trivia #jacksonvilleal #jacksonvillealabama #BetterNightOut #TriviaNearMe #TriviaInAL #struts #strutswings #NorthAlabamaTrivia
URL:https://strutswings.com/event/live-trivia/2027-09-01/
LOCATION:Struts of Oxford\, 88 Ali Way\, Oxford\, AL\, 36203\, United States
END:VEVENT
BEGIN:VEVENT
DTSTART;TZID=America/Chicago:20270902T170000
DTEND;TZID=America/Chicago:20270902T210000
DTSTAMP:20260425T163016
CREATED:20240717T204956Z
LAST-MODIFIED:20240717T204956Z
UID:10002785-1819904400-1819918800@strutswings.com
SUMMARY:FROZEN DRINK THURSDAY @ Struts of Jacksonville
DESCRIPTION:FROZEN DRINK THURSDAY \nAll frozen drinks are $6 from 5pm-9pm!
URL:https://strutswings.com/event/frozen-drink-thursday-struts-of-jacksonville/2027-09-02/
END:VEVENT
BEGIN:VEVENT
DTSTART;TZID=America/Chicago:20270902T190000
DTEND;TZID=America/Chicago:20270902T200000
DTSTAMP:20260425T163016
CREATED:20240709T022812Z
LAST-MODIFIED:20240829T193033Z
UID:10000167-1819911600-1819915200@strutswings.com
SUMMARY:SINGO @ Struts of Jacksonville
DESCRIPTION:SINGO\nITS bingo w/ music! No singing required!\nAll ages welcome!\nAwesome\, fun\, & interactive new game! Come test your music knowledge!\nThe fun begins at 7:00 PM and it’s #FREE to play!\nGift card prizes!\n\n\n#singo #struts #strutswings\n#Weekly #jacksonvilleal #jacksonvillealabama #BetterNightOut #SingoNearMe #SingoInAL
URL:https://strutswings.com/event/singo/2027-09-02/
LOCATION:Struts of Oxford\, 88 Ali Way\, Oxford\, AL\, 36203\, United States
END:VEVENT
BEGIN:VEVENT
DTSTART;TZID=America/Chicago:20270906T170000
DTEND;TZID=America/Chicago:20270906T210000
DTSTAMP:20260425T163016
CREATED:20240717T204714Z
LAST-MODIFIED:20240717T204714Z
UID:10002524-1820250000-1820264400@strutswings.com
SUMMARY:MARGARITA MONDAY @ Struts of Jacksonville
DESCRIPTION:MARGARITA MONDAY \nFrom 5pm-9pm $5 (12oz) Jose Cuervo Margaritas \n \n 
URL:https://strutswings.com/event/margarita-monday-struts-of-jacksonville/2027-09-06/
END:VEVENT
BEGIN:VEVENT
DTSTART;TZID=America/Chicago:20270906T190000
DTEND;TZID=America/Chicago:20270906T200000
DTSTAMP:20260425T163016
CREATED:20240708T200704Z
LAST-MODIFIED:20240717T204416Z
UID:10000952-1820257200-1820260800@strutswings.com
SUMMARY:FREE BINGO @ Struts of Jacksonville
DESCRIPTION:BINGO\nCash/gift card/food prizes!\nThe fun begins at 7:00 PM and it’s #FREE to play!\n#Weekly #Bingo #jacksonvilleal #jacksonvillealabama #BetterNightOut #BingoNearMe #BingoInAL #struts #strutswings\n#FREEBINGO\n\n–
URL:https://strutswings.com/event/free-bingo/2027-09-06/
LOCATION:Struts of Oxford\, 88 Ali Way\, Oxford\, AL\, 36203\, United States
END:VEVENT
BEGIN:VEVENT
DTSTART;TZID=America/Chicago:20270906T190000
DTEND;TZID=America/Chicago:20270906T203000
DTSTAMP:20260425T163016
CREATED:20240717T203520Z
LAST-MODIFIED:20240717T203556Z
UID:10001213-1820257200-1820262600@strutswings.com
SUMMARY:LIVE TRIVIA @ Struts of Oxford
DESCRIPTION:LIVE TRIVIA \nCash/gift card/food prizes!\nThe fun begins at 7:00 PM and it’s #FREE to play!\n#Weekly #Trivia #OxfordAL #OxfordAlabama #BetterNightOut #TriviaNearMe #TriviaInAL #struts #strutswings #NorthAlabamaTrivia
URL:https://strutswings.com/event/live-trivia-struts-of-oxford-2/2027-09-06/
LOCATION:Struts of Oxford\, 88 Ali Way\, Oxford\, AL\, 36203\, United States
END:VEVENT
BEGIN:VEVENT
DTSTART;TZID=America/Chicago:20270907T183000
DTEND;TZID=America/Chicago:20270907T200000
DTSTAMP:20260425T163016
CREATED:20240717T203850Z
LAST-MODIFIED:20240717T203935Z
UID:10001738-1820341800-1820347200@strutswings.com
SUMMARY:SINGO @ Struts of Oxford
DESCRIPTION:SINGO\nITS bingo w/ music! No singing required!\nAll ages welcome!\nAwesome\, fun\, & interactive new game! Come test your music knowledge!\nThe fun begins at 7:00 PM and it’s #FREE to play!\nGift card prizes!\n\n\n#singo #struts #strutswings\n#Weekly #OxfordAL #Oxfordalabama #BetterNightOut #SingoNearMe #SingoInAL
URL:https://strutswings.com/event/singo-struts-of-oxford/2027-09-07/
LOCATION:Struts of Oxford\, 88 Ali Way\, Oxford\, AL\, 36203\, United States
END:VEVENT
BEGIN:VEVENT
DTSTART;TZID=America/Chicago:20270908T170000
DTEND;TZID=America/Chicago:20270908T210000
DTSTAMP:20260425T163016
CREATED:20240717T205142Z
LAST-MODIFIED:20240717T205207Z
UID:10003048-1820422800-1820437200@strutswings.com
SUMMARY:WINE WEDNESDAY @ Struts of Oxford
DESCRIPTION:WINE WEDNESDAY\nAll glasses of wine and champagne are $4 from 5pm-9pm every wednesday!\n#Struts\n#StrutsWings\n#winewednesday\n#winewednesdays
URL:https://strutswings.com/event/wine-wednesday-struts-of-oxford/2027-09-08/
END:VEVENT
BEGIN:VEVENT
DTSTART;TZID=America/Chicago:20270908T190000
DTEND;TZID=America/Chicago:20270908T200000
DTSTAMP:20260425T163016
CREATED:20240717T204216Z
LAST-MODIFIED:20240717T204231Z
UID:10002264-1820430000-1820433600@strutswings.com
SUMMARY:FREE BINGO @ Struts of Oxford
DESCRIPTION:BINGO\nCash/gift card/food prizes!\nThe fun begins at 7:00 PM and it’s #FREE to play!\n#Weekly #Bingo #JacksonvilleAl #JacksonvilleAlabama #BetterNightOut #BingoNearMe #BingoInAL #struts #strutswings\n#FREEBINGO\n\n–
URL:https://strutswings.com/event/free-bingo-struts-of-oxford/2027-09-08/
LOCATION:Struts of Oxford\, 88 Ali Way\, Oxford\, AL\, 36203\, United States
END:VEVENT
BEGIN:VEVENT
DTSTART;TZID=America/Chicago:20270908T190000
DTEND;TZID=America/Chicago:20270908T203000
DTSTAMP:20260425T163016
CREATED:20240709T022430Z
LAST-MODIFIED:20240717T201613Z
UID:10000429-1820430000-1820435400@strutswings.com
SUMMARY:LIVE TRIVIA @ Struts of Jacksonville
DESCRIPTION:LIVE TRIVIA \nCash/gift card/food prizes!\nThe fun begins at 7:00 PM and it’s #FREE to play!\n#Weekly #Trivia #jacksonvilleal #jacksonvillealabama #BetterNightOut #TriviaNearMe #TriviaInAL #struts #strutswings #NorthAlabamaTrivia
URL:https://strutswings.com/event/live-trivia/2027-09-08/
LOCATION:Struts of Oxford\, 88 Ali Way\, Oxford\, AL\, 36203\, United States
END:VEVENT
BEGIN:VEVENT
DTSTART;TZID=America/Chicago:20270909T170000
DTEND;TZID=America/Chicago:20270909T210000
DTSTAMP:20260425T163016
CREATED:20240717T204956Z
LAST-MODIFIED:20240717T204956Z
UID:10002786-1820509200-1820523600@strutswings.com
SUMMARY:FROZEN DRINK THURSDAY @ Struts of Jacksonville
DESCRIPTION:FROZEN DRINK THURSDAY \nAll frozen drinks are $6 from 5pm-9pm!
URL:https://strutswings.com/event/frozen-drink-thursday-struts-of-jacksonville/2027-09-09/
END:VEVENT
BEGIN:VEVENT
DTSTART;TZID=America/Chicago:20270909T190000
DTEND;TZID=America/Chicago:20270909T200000
DTSTAMP:20260425T163016
CREATED:20240709T022812Z
LAST-MODIFIED:20240829T193033Z
UID:10000168-1820516400-1820520000@strutswings.com
SUMMARY:SINGO @ Struts of Jacksonville
DESCRIPTION:SINGO\nITS bingo w/ music! No singing required!\nAll ages welcome!\nAwesome\, fun\, & interactive new game! Come test your music knowledge!\nThe fun begins at 7:00 PM and it’s #FREE to play!\nGift card prizes!\n\n\n#singo #struts #strutswings\n#Weekly #jacksonvilleal #jacksonvillealabama #BetterNightOut #SingoNearMe #SingoInAL
URL:https://strutswings.com/event/singo/2027-09-09/
LOCATION:Struts of Oxford\, 88 Ali Way\, Oxford\, AL\, 36203\, United States
END:VEVENT
BEGIN:VEVENT
DTSTART;TZID=America/Chicago:20270913T170000
DTEND;TZID=America/Chicago:20270913T210000
DTSTAMP:20260425T163016
CREATED:20240717T204714Z
LAST-MODIFIED:20240717T204714Z
UID:10002525-1820854800-1820869200@strutswings.com
SUMMARY:MARGARITA MONDAY @ Struts of Jacksonville
DESCRIPTION:MARGARITA MONDAY \nFrom 5pm-9pm $5 (12oz) Jose Cuervo Margaritas \n \n 
URL:https://strutswings.com/event/margarita-monday-struts-of-jacksonville/2027-09-13/
END:VEVENT
BEGIN:VEVENT
DTSTART;TZID=America/Chicago:20270913T190000
DTEND;TZID=America/Chicago:20270913T200000
DTSTAMP:20260425T163016
CREATED:20240708T200704Z
LAST-MODIFIED:20240717T204416Z
UID:10000953-1820862000-1820865600@strutswings.com
SUMMARY:FREE BINGO @ Struts of Jacksonville
DESCRIPTION:BINGO\nCash/gift card/food prizes!\nThe fun begins at 7:00 PM and it’s #FREE to play!\n#Weekly #Bingo #jacksonvilleal #jacksonvillealabama #BetterNightOut #BingoNearMe #BingoInAL #struts #strutswings\n#FREEBINGO\n\n–
URL:https://strutswings.com/event/free-bingo/2027-09-13/
LOCATION:Struts of Oxford\, 88 Ali Way\, Oxford\, AL\, 36203\, United States
END:VEVENT
END:VCALENDAR